Workbook
Name 施設一覧: [1]設定!$A$32:$A$34
Name 施設一覧: [1]設定!$A$32:$A$34
Name 施設一覧: [1]設定!$A$32:$A$34
Name 施設一覧: [1]設定!$A$32:$A$34
Name 施設一覧: [1]設定!$A$32:$A$34
Name 施設一覧: [1]設定!$A$32:$A$34
Name 施設一覧: [1]設定!$A$32:$A$34
Name 施設一覧: [1]設定!$A$32:$A$34

Sheet 表紙・鑑
A1: 令和 | E1: =AA3 -> 8 | F1: 年度
A3: 介 護 老 人 福 祉 施 設 等 指 導 提 出 資 料 | AA3: 8
D5: 指導形態 | G5: 運営指導 | AA5: ※消さないでください。
D6: 指導実施日時 | G6: 年 月 日 | N6: 午前 ・ 午後 時 分
D7: 法人名 | G7: （プルダウンから選択）
D9: 法人代表者の職・氏名
D11: 同一所在地において行う事業等の種類 | G11: （プルダウンから選択）
D13: 施設名
D16: ※ | E16: 資料は施設ごとに作成してください。
D17: ※ | E17: 年度及び日時の指示があるもの以外は監査資料作成時点の情報を記載してください。
D18: ※ | F18: 着色部が記載対象項目です。未着色部分は自動計算されるように計算式が入力されています。
G20: 作成者 | I20: 職名 | P20: 氏名
I22: TEL （問い合わせ先） | P22: 作成日

Sheet 1法人・施設の概況 
A1: １．法人・施設の概況
A2: （１）法人の概要
A3: 法人の行う主な事業内容（当該事業を除く）
A4: 事業名 | J4: 開始年月 | Q4: 定員 | S4: 備考
L5: 年 | N5: 月 | P5: 日 | R5: 名
L6: 年 | N6: 月 | P6: 日 | R6: 名
L7: 年 | N7: 月 | P7: 日 | R7: 名
L8: 年 | N8: 月 | P8: 日 | R8: 名
L9: 年 | N9: 月 | P9: 日 | R9: 名
L10: 年 | N10: 月 | P10: 日 | R10: 名
A12: （１）施設の概要
A13: 法人名 | E13: =IF(表紙・鑑!G7="","",表紙・鑑!G7) -> （プルダウンから選択） | I13: =IF(表紙・鑑!L7="","",表紙・鑑!L7) | P13: 法人代表者名 | T13: =IF(表紙・鑑!G13="","",表紙・鑑!G9)
A14: 法人本部所在地 | Y14: 事業開始年月日 | AC14: （選択） | AG14: 年 | AK14: 月 | AO14: 日
A15: 施設名 | E15: =IF(表紙・鑑!G11="","",表紙・鑑!G11) -> （プルダウンから選択） | K15: =IF(表紙・鑑!G13="","",表紙・鑑!G13) | S15: 当初認可定員 | W15: 計 | Z15: 人 | AA15: （うち、ショート | AF15: 人）
A16: 施設所在地※１ | E16: 〒 | H16: － | S16: 変更履歴 （定員・年月日） | W16: 計 | Z16: 人 | AA16: （うち、ショート | AF16: 人） | AG16: （選択） | AJ16: 年 | AM16: 月 | AP16: 日
E17: 奈良県 | W17: 計 | Z17: 人 | AA17: （うち、ショート | AF17: 人） | AG17: （選択） | AJ17: 年 | AM17: 月 | AP17: 日
A18: 電話番号等 | E18: TEL | L18: FAX | W18: 計 | Z18: 人 | AA18: （うち、ショート | AF18: 人） | AG18: （選択） | AJ18: 年 | AM18: 月 | AP18: 日
E19: e-mail※２ | W19: 計 | Z19: 人 | AA19: （うち、ショート | AF19: 人） | AG19: （選択） | AJ19: 年 | AM19: 月 | AP19: 日
A20: 施設長氏名 | S20: 現在認可定員 | W20: 計 | Z20: 人 | AA20: （うち、ショート | AF20: 人） | AG20: （選択） | AJ20: 年 | AM20: 月 | AP20: 日
A21: 施設認可年月日 | E21: （選択） | I21: 年 | M21: 月 | Q21: 日 | S21: 現員 | W21: 計 | Z21: 人 | AA21: （うち、ショート | AF21: 人） | AH21: =IF(AJ21="","","充足率") | AJ21: =IF(X21="","",X21/X20)
A22: 施設等の区分 | E22: 介護老人福祉施設 | J22: （プルダウンから選択） | S22: ユニット型の場合：ユニット数 | AB22: 個 | AC22: 短期入所生活介護 | AH22: （プルダウンから選択）
A24: （２）建物設備の状況
A25: ① | B25: 建物 | Q25: ② | R25: 設備 | AB25: ※ | AC25: 居室の状況
D26: ="R"&表紙・鑑!#REF!&".3.31現在" -> #REF! | H26: 前年度中増減 | L26: スプリンクラーの設置有無 | U26: 室数 | W26: 床面積 | AE26: 室数 | AH26: 1人当り面積
A27: 耐火構造 | G27: ㎡ | K27: ㎡ | M27: 有 | O27: 無 | Q27: 居室（寝室） | V27: 室 | Y27: ㎡ | AB27: 1 | AC27: 人部屋 | AG27: 室 | AJ27: ㎡
A28: 準耐火構造 | G28: ㎡ | K28: ㎡ | M28: 有 | O28: 無 | Q28: 共同生活室 | V28: 室 | Y28: ㎡ | AB28: 2 | AC28: 人部屋 | AG28: 室 | AJ28: ㎡
A29: 簡易耐火構造 | G29: ㎡ | K29: ㎡ | M29: 有 | O29: 無 | Q29: 静養室 | V29: 室 | Y29: ㎡ | AB29: 3 | AC29: 人部屋 | AG29: 室 | AJ29: ㎡
A30: 木造 | G30: ㎡ | K30: ㎡ | M30: 有 | O30: 無 | Q30: 食堂 | V30: 室 | Y30: ㎡ | AB30: 4 | AC30: 人部屋 | AG30: 室 | AJ30: ㎡
A31: 計 | D31: =IF(SUM(D27:F30) = 0, "", SUM(D27:F30)) | G31: ㎡ | H31: =IF(SUM(H27:J30) = 0, "", SUM(H27:J30)) | K31: ㎡ | Q31: 浴室 | V31: 室 | Y31: ㎡ | AC31: 人部屋 | AG31: 室 | AJ31: ㎡
Q32: 洗面室 | V32: 室 | Y32: ㎡
Q33: トイレ | U33: =SUM(U34:V35) -> 0 | V33: 室 | W33: =SUM(W34:X35) -> 0 | Y33: ㎡
R34: 男性用 | V34: 室 | Y34: ㎡
R35: 女性用 | V35: 室 | Y35: ㎡ | AD35: 室数 | AF35: 床面積 | AI35: その他（具体的に） | AM35: 室数 | AO35: 床面積
Q36: 医務室 | V36: 室 | Y36: ㎡ | Z36: 汚物処理室 | AE36: 室 | AH36: ㎡ | AN36: 室 | AQ36: ㎡
Q37: 厨房 | V37: 室 | Y37: ㎡ | Z37: 介護材料室 | AE37: 室 | AH37: ㎡ | AN37: 室 | AQ37: ㎡
Q38: 介護職員室 | V38: 室 | Y38: ㎡ | Z38: 事務室 | AE38: 室 | AH38: ㎡ | AN38: 室 | AQ38: ㎡
Q39: 看護職員室 | V39: 室 | Y39: ㎡ | Z39: 宿直室 | AE39: 室 | AH39: ㎡ | AN39: 室 | AQ39: ㎡
Q40: 機能訓練室 | V40: 室 | Y40: ㎡ | Z40: 霊安室 | AE40: 室 | AH40: ㎡ | AN40: 室 | AQ40: ㎡
Q41: 面接室（面談室） | V41: 室 | Y41: ㎡ | Z41: 集会室 | AE41: 室 | AH41: ㎡ | AN41: 室 | AQ41: ㎡
Q42: 洗濯室 | V42: 室 | Y42: ㎡ | Z42: 談話室 | AE42: 室 | AH42: ㎡ | AN42: 室 | AQ42: ㎡
...

Sheet 2職員配置状況 
A1: ２．職員の配置状況
A2: （１）職種別職員充足状況
H3: 施設長 | J3: 事務員 | L3: 直接処遇職員 | AH3: 栄養士 又は管理 栄養士 | AJ3: 医師 | AN3: 調理員 | AP3: その他 | AR3: 合計
D4: 職種別
L5: 主 任 相談員 | N5: 生 活 相談員 | P5: 介護 職員 | R5: 主 任 支援員 | T5: 支援員 | V5: 看護 職員 | X5: 機 能 訓 練 指導員 | Z5: 介 護 支 援 専門員 | AF5: 小計 | AJ5: 専 任 | AL5: 嘱 託 ※1
A6: 区分
A8: 配置基準数（A） | AF8: =IF(SUM(L8:AC9) = 0, "", SUM(L8:AC9)) | AR8: =IF(SUM(AF8,AH8,AJ8,AN8,AP8,H8,J8)=0,"",SUM(AF8,AH8,AJ8,AN8,AP8,H8,J8))
A10: 現員 | C10: 常勤職員（B） | AF10: =IF(SUM(L10:AC11) = 0, "", SUM(L10:AC11)) | AR10: =IF(SUM(AF10,AH10,AJ10,AN10,AP10,H10,J10)=0,"",SUM(AF10,AH10,AJ10,AN10,AP10,H10,J10))
C12: 非常勤 職員 | E12: 職員数 | AF12: =IF(SUM(L12:AC13) = 0, "", SUM(L12:AC13)) | AR12: =IF(SUM(AF12,AH12,AJ12,AN12,AP12,H12,J12)=0,"",SUM(AF12,AH12,AJ12,AN12,AP12,H12,J12))
E14: 常勤換算人数（C）※2 | AF14: =IF(SUM(L14:AC15) = 0, "", SUM(L14:AC15)) | AR14: =IF(SUM(AF14,AH14,AJ14,AN14,AP14,H14,J14)=0,"",SUM(AF14,AH14,AJ14,AN14,AP14,H14,J14))
A16: 差引過不足（B+C-A） | H16: =IF(AND(H8=0,H10=0,H14=0),"",(H10+H14)-H8) | J16: =IF(AND(J8=0,J10=0,J14=0),"",(J10+J14)-J8) | L16: =IF(AND(L8=0,L10=0,L14=0),"",(L10+L14)-L8) | N16: =IF(AND(N8=0,N10=0,N14=0),"",(N10+N14)-N8) | P16: =IF(AND(P8=0,P10=0,P14=0),"",(P10+P14)-P8) | R16: =IF(AND(R8=0,R10=0,R14=0),"",(R10+R14)-R8) | T16: =IF(AND(T8=0,T10=0,T14=0),"",(T10+T14)-T8) | V16: =IF(AND(V8=0,V10=0,V14=0),"",(V10+V14)-V8) | X16: =IF(AND(X8=0,X10=0,X14=0),"",(X10+X14)-X8) | Z16: =IF(AND(Z8=0,Z10=0,Z14=0),"",(Z10+Z14)-Z8) | AB16: =IF(AND(AB8=0,AB10=0,AB14=0),"",(AB10+AB14)-AB8) | AD16: =IF(AND(AD8=0,AD10=0,AD14=0),"",(AD10+AD14)-AD8) | AH16: =IF(AND(AH8=0,AH10=0,AH14=0),"",(AH10+AH14)-AH8) | AJ16: =IF(AND(AJ8=0,AJ10=0,AJ14=0),"",(AJ10+AJ14)-AJ8) | AL16: =IF(AND(AL8=0,AL10=0,AL14=0),"",(AL10+AL14)-AL8) | AN16: =IF(AND(AN8=0,AN10=0,AN14=0),"",(AN10+AN14)-AN8) | AP16: =IF(AND(AP8=0,AP10=0,AP14=0),"",(AP10+AP14)-AP8)
A18: （注） | B18: １．嘱託医は、「合計」欄に含めないでください。
B19: ２．常勤換算人数は、指導実施月の前々月の実績を記入してください。
A22: （２）医師の状況 | AB22: （３）職員未充足に対する補充計画（欠員が生じている場合）
D23: 医師名 | AB23: 欠員職種
A24: 区分 | AB24: 欠員人数 | AL24: 人 | AR24: 人
A25: 医療機関名 | AB25: 欠員期間 （終期は確定している場合のみ入力） | AL25: ～ | AR25: ～
AL26: まで | AR26: まで
A27: 診療科目 | AB27: 補充計画
A29: 給与 賃金 | C29: 契約額 | K29: 円 | P29: 円 | U29: 円 | Z29: 円
C31: 前年度総支給額 | K31: 円 | P31: 円 | U31: 円 | Z31: 円
C32: （税込み）
C33: うち措置費 支出額 | K33: 円 | P33: 円 | U33: 円 | Z33: 円
A35: 嘱託医契約の有無 | H35: 有 | K35: 無 | M35: 有 | P35: 無 | R35: 有 | U35: 無 | W35: 有 | Z35: 無
AB36: （４）労働時間
A37: 勤務の形態 （例：毎週○曜日 14時～17時） | AB37: 週所定労働時間 | AI37: 時間 | AL37: 分 | AM37: /週
AB38: 変形労働時間制 | AH38: 有（ | AI38: （選択） | AM38: ） | AO38: 無 | BB38: （プルダウンから選択）
AB39: 出退勤時刻（実績）の把握 | AN39: ￬「その他」の場合、下段に記載 | BB39: タイムカードの導入
AG40: （ | AS40: ） | BB40: パソコン等の使用時間の記録
BB41: 出勤簿に押印
BB42: その他（下段に記載）
BB43: 把握していない

Sheet 3採用・退職状況 
A1: ３．職員の採用・退職の状況
A2: （１）職員の採用・退職の状況 （常勤職員について記載）
I3: 施設長 | K3: 事務員 | M3: 直 接 処 遇 職 員 | AI3: 栄養士 又は管理 栄養士 | AK3: 医師 | AO3: 調理員 | AQ3: その他 | AS3: 合計
E4: 職種別 | M4: 主 任 相談員 | O4: 生 活 相談員 | Q4: 介護 職員 | S4: 主 任 支援員 | U4: 支援員 | W4: 看護 職員 | Y4: 機 能 訓 練 指導員 | AA4: 介 護 支 援 専門員 | AG4: 小計 | AK4: 専 任 | AM4: 嘱 託 ※４
A5: 区分
A7: ="R"&表紙・鑑!AA3-2&"年度末職員数" -> R6年度末職員数 | AG7: =IF(SUM(M7:AD8) = 0, "", SUM(M7:AD8)) | AS7: =IF(SUM(AG7,AI7,AK7,AO7,AQ7,I7,K7) = 0,"",SUM(AG7,AI7,AK7,AO7,AQ7,I7,K7))
A9: ="R"&表紙・鑑!AA3-1 -> R7 | B9: 年度中 | D9: 採用 | AG9: =IF(SUM(M9:AD10) = 0, "", SUM(M9:AD10)) | AS9: =IF(SUM(AG9,AI9,AK9,AO9,AQ9,I9,K9) = 0,"",SUM(AG9,AI9,AK9,AO9,AQ9,I9,K9))
A11: 年 | D11: 退職 | AG11: =IF(SUM(M11:AD12) = 0, "", SUM(M11:AD12)) | AS11: =IF(SUM(AG11,AI11,AK11,AO11,AQ11,I11,K11) = 0,"",SUM(AG11,AI11,AK11,AO11,AQ11,I11,K11))
A13: 度 | B13: ="R"&表紙・鑑!AA3-1&"年度末職員数" -> R7年度末職員数 | I13: =IF(AND(I7=0,I9=0,I11=0),"",I7+I9-I11) | K13: =IF(AND(K7=0,K9=0,K11=0),"",K7+K9-K11) | M13: =IF(AND(M7=0,M9=0,M11=0),"",M7+M9-M11) | O13: =IF(AND(O7=0,O9=0,O11=0),"",O7+O9-O11) | Q13: =IF(AND(Q7=0,Q9=0,Q11=0),"",Q7+Q9-Q11) | S13: =IF(AND(S7=0,S9=0,S11=0),"",S7+S9-S11) | U13: =IF(AND(U7=0,U9=0,U11=0),"",U7+U9-U11) | W13: =IF(AND(W7=0,W9=0,W11=0),"",W7+W9-W11) | Y13: =IF(AND(Y7=0,Y9=0,Y11=0),"",Y7+Y9-Y11) | AA13: =IF(AND(AA7=0,AA9=0,AA11=0),"",AA7+AA9-AA11) | AC13: =IF(AND(AC7=0,AC9=0,AC11=0),"",AC7+AC9-AC11) | AE13: =IF(AND(AE7=0,AE9=0,AE11=0),"",AE7+AE9-AE11) | AG13: =IF(SUM(M13:AF14) = 0, "", SUM(M13:AF14)) | AI13: =IF(AND(AI7=0,AI9=0,AI11=0),"",AI7+AI9-AI11) | AK13: =IF(AND(AK7=0,AK9=0,AK11=0),"",AK7+AK9-AK11) | AM13: =IF(AND(AM7=0,AM9=0,AM11=0),"",AM7+AM9-AM11) | AO13: =IF(AND(AO7=0,AO9=0,AO11=0),"",AO7+AO9-AO11) | AQ13: =IF(AND(AQ7=0,AQ9=0,AQ11=0),"",AQ7+AQ9-AQ11) | AS13: =IF(SUM(AG13,AI13,AK13,AO13,AQ13,I13,K13) = 0,"",SUM(AG13,AI13,AK13,AO13,AQ13,I13,K13))
A15: ="R"&表紙・鑑!AA3 -> R8 | B15: 年度中 | D15: 採用 | AG15: =IF(SUM(M15:AD16) = 0, "", SUM(M15:AD16)) | AS15: =IF(SUM(AG15,AI15,AK15,AO15,AQ15,I15,K15) = 0,"",SUM(AG15,AI15,AK15,AO15,AQ15,I15,K15))
A17: 年 | D17: 退職 | AG17: =IF(SUM(M17:AD18) = 0, "", SUM(M17:AD18)) | AS17: =IF(SUM(AG17,AI17,AK17,AO17,AQ17,I17,K17) = 0,"",SUM(AG17,AI17,AK17,AO17,AQ17,I17,K17))
A19: 度 | C19: 月 | E19: 日 | F19: 現在 職員数 | I19: =IF(ISERROR(I13+I15-I17),IF(I13="",IF(AND(I15=0,I17=0),"",I15-I17),I13),I13+I15-I17) | K19: =IF(ISERROR(K13+K15-K17),IF(K13="",IF(AND(K15=0,K17=0),"",K15-K17),K13),K13+K15-K17) | M19: =IF(ISERROR(M13+M15-M17),IF(M13="",IF(AND(M15=0,M17=0),"",M15-M17),M13),M13+M15-M17) | O19: =IF(ISERROR(O13+O15-O17),IF(O13="",IF(AND(O15=0,O17=0),"",O15-O17),O13),O13+O15-O17) | Q19: =IF(ISERROR(Q13+Q15-Q17),IF(Q13="",IF(AND(Q15=0,Q17=0),"",Q15-Q17),Q13),Q13+Q15-Q17) | S19: =IF(ISERROR(S13+S15-S17),IF(S13="",IF(AND(S15=0,S17=0),"",S15-S17),S13),S13+S15-S17) | U19: =IF(ISERROR(U13+U15-U17),IF(U13="",IF(AND(U15=0,U17=0),"",U15-U17),U13),U13+U15-U17) | W19: =IF(ISERROR(W13+W15-W17),IF(W13="",IF(AND(W15=0,W17=0),"",W15-W17),W13),W13+W15-W17) | Y19: =IF(ISERROR(Y13+Y15-Y17),IF(Y13="",IF(AND(Y15=0,Y17=0),"",Y15-Y17),Y13),Y13+Y15-Y17) | AA19: =IF(ISERROR(AA13+AA15-AA17),IF(AA13="",IF(AND(AA15=0,AA17=0),"",AA15-AA17),AA13),AA13+AA15-AA17) | AC19: =IF(ISERROR(AC13+AC15-AC17),IF(AC13="",IF(AND(AC15=0,AC17=0),"",AC15-AC17),AC13),AC13+AC15-AC17) | AE19: =IF(ISERROR(AE13+AE15-AE17),IF(AE13="",IF(AND(AE15=0,AE17=0),"",AE15-AE17),AE13),AE13+AE15-AE17) | AG19: =IF(SUM(M19:AF20) = 0, "", SUM(M19:AF20)) | AI19: =IF(ISERROR(AI13+AI15-AI17),IF(AI13="",IF(AND(AI15=0,AI17=0),"",AI15-AI17),AI13),AI13+AI15-AI17) | AK19: =IF(ISERROR(AK13+AK15-AK17),IF(AK13="",IF(AND(AK15=0,AK17=0),"",AK15-AK17),AK13),AK13+AK15-AK17) | AM19: =IF(ISERROR(AM13+AM15-AM17),IF(AM13="",IF(AND(AM15=0,AM17=0),"",AM15-AM17),AM13),AM13+AM15-AM17) | AO19: =IF(ISERROR(AO13+AO15-AO17),IF(AO13="",IF(AND(AO15=0,AO17=0),"",AO15-AO17),AO13),AO13+AO15-AO17) | AQ19: =IF(ISERROR(AQ13+AQ15-AQ17),IF(AQ13="",IF(AND(AQ15=0,AQ17=0),"",AQ15-AQ17),AQ13),AQ13+AQ15-AQ17) | AS19: =IF(SUM(AG19,AI19,AK19,AO19,AQ19,I19,K19) = 0,"",SUM(AG19,AI19,AK19,AO19,AQ19,I19,K19))
A21: （注） | B21: １．「 月 日現在職員数」については、資料作成時の状況により記入してください。
B22: ２．3月31日退職者については、「年度中の退職」欄に計上し、「年度末職員数」には含めないでください。
B23: ３．「採用」、「退職」数には、法人・施設間内部での異動者数を含めてください。
B24: ４．嘱託医は、「合計」欄に含めないでください。
A26: ="（２）退職者の状況（令和"&表紙・鑑!AA3-1&"年4月1日以降）" -> （２）退職者の状況（令和7年4月1日以降）
A27: 年月日 | D27: 職種 | H27: 氏名 | M27: 理由 | P27: 年月日 | S27: 職種 | W27: 氏名 | AB27: 理由 | AE27: 年月日 | AH27: 職種 | AL27: 氏名 | AQ27: 理由
A38: （注） | B38: 理由欄の記載は任意です。
B39: 定年退職者の場合「定年」、同法人他施設異動の場合「法人内異動」、法人外の他施設・機関等への出向の場合「出向」、それ以外の理由の場合「自己都合」または「その他」を選択してください。

Sheet 4(1)勤務状況 
A1: ４．職員の状況
A2: （1）職員の勤務状況等
A3: ① | B3: 1日の勤務形態 | AV3: （プルダウンから選択）
A4: （ 職種 ： | D4: （プルダウンから選択） | J4: ） | V4: （ 職種 ： | Y4: （プルダウンから選択） | AE4: ） | AV4: 施設長
A5: 勤務形態 | D5: 人数 | G5: 勤務時間（自動計算） | M5: 始業時間 | O5: 終業時間 | Q5: 休憩開始 時間 | S5: 休憩終了 時間 | V5: 勤務形態 | Y5: 人数 | AB5: 勤務時間（自動計算） | AH5: 始業時間 | AJ5: 終業時間 | AL5: 休憩開始 時間 | AN5: 休憩終了 時間 | AV5: 事務員
G6: 実働 | I6: 休憩 | K6: 計 | AB6: 実働 | AD6: 休憩 | AF6: 計 | AV6: 相談員
AV7: 介護職員
A8: 早 番 | F8: 人 | I8: =IF(S8-Q8=0,"",S8-Q8) | K8: =IF(SUM(G8:J8)=0,"",SUM(G8:J8)) | V8: 早 番 | AA8: 人 | AD8: =IF(AN8-AL8=0,"",AN8-AL8) | AF8: =IF(SUM(AB8:AE8)=0,"",SUM(AB8:AE8)) | AV8: 看護職員
A9: 平 常 | F9: 人 | G9: =IF(IF(I9="",O9-M9,O9-M9-I9)=0,"",IF(I9="",O9-M9,O9-M9-I9)) | I9: =IF(S9-Q9=0,"",S9-Q9) | K9: =IF(SUM(G9:J9)=0,"",SUM(G9:J9)) | V9: 平 常 | AA9: 人 | AB9: =IF(IF(AD9="",AJ9-AH9,AJ9-AH9-AD9)=0,"",IF(AD9="",AJ9-AH9,AJ9-AH9-AD9)) | AD9: =IF(AN9-AL9=0,"",AN9-AL9) | AF9: =IF(SUM(AB9:AE9)=0,"",SUM(AB9:AE9)) | AV9: 栄養士又は管理栄養士
A10: 遅 番 | F10: 人 | G10: =IF(IF(I10="",O10-M10,O10-M10-I10)=0,"",IF(I10="",O10-M10,O10-M10-I10)) | I10: =IF(S10-Q10=0,"",S10-Q10) | K10: =IF(SUM(G10:J10)=0,"",SUM(G10:J10)) | V10: 遅 番 | AA10: 人 | AB10: =IF(IF(AD10="",AJ10-AH10,AJ10-AH10-AD10)=0,"",IF(AD10="",AJ10-AH10,AJ10-AH10-AD10)) | AD10: =IF(AN10-AL10=0,"",AN10-AL10) | AF10: =IF(SUM(AB10:AE10)=0,"",SUM(AB10:AE10)) | AV10: 調理員
A11: 準夜勤 | F11: 人 | G11: =IF(IF(I11="",O11-M11,O11-M11-I11)=0,"",IF(I11="",O11-M11,O11-M11-I11)) | I11: =IF(S11-Q11=0,"",S11-Q11) | K11: =IF(SUM(G11:J11)=0,"",SUM(G11:J11)) | V11: 準夜勤 | AA11: 人 | AB11: =IF(IF(AD11="",AJ11-AH11,AJ11-AH11-AD11)=0,"",IF(AD11="",AJ11-AH11,AJ11-AH11-AD11)) | AD11: =IF(AN11-AL11=0,"",AN11-AL11) | AF11: =IF(SUM(AB11:AE11)=0,"",SUM(AB11:AE11)) | AV11: 支援員
A12: （宿 直） | F12: 人 | G12: =IF(IF(I12="",O12-M12,O12-M12-I12)=0,"",IF(I12="",O12-M12,O12-M12-I12)) | I12: =IF(S12-Q12=0,"",S12-Q12) | K12: =IF(SUM(G12:J12)=0,"",SUM(G12:J12)) | V12: （宿 直） | AA12: 人 | AB12: =IF(IF(AD12="",AJ12-AH12,AJ12-AH12-AD12)=0,"",IF(AD12="",AJ12-AH12,AJ12-AH12-AD12)) | AD12: =IF(AN12-AL12=0,"",AN12-AL12) | AF12: =IF(SUM(AB12:AE12)=0,"",SUM(AB12:AE12)) | AV12: 機能訓練指導員
A13: 深夜勤 | F13: 人 | G13: =IF(IF(I13="",O13-M13,O13-M13-I13)=0,"",IF(I13="",O13-M13,O13-M13-I13)) | I13: =IF(S13-Q13=0,"",S13-Q13) | K13: =IF(SUM(G13:J13)=0,"",SUM(G13:J13)) | V13: 深夜勤 | AA13: 人 | AB13: =IF(IF(AD13="",AJ13-AH13,AJ13-AH13-AD13)=0,"",IF(AD13="",AJ13-AH13,AJ13-AH13-AD13)) | AD13: =IF(AN13-AL13=0,"",AN13-AL13) | AF13: =IF(SUM(AB13:AE13)=0,"",SUM(AB13:AE13)) | AV13: 介護支援専門員
A14: （宿 直） | F14: 人 | G14: =IF(IF(I14="",O14-M14,O14-M14-I14)=0,"",IF(I14="",O14-M14,O14-M14-I14)) | I14: =IF(S14-Q14=0,"",S14-Q14) | K14: =IF(SUM(G14:J14)=0,"",SUM(G14:J14)) | V14: （宿 直） | AA14: 人 | AB14: =IF(IF(AD14="",AJ14-AH14,AJ14-AH14-AD14)=0,"",IF(AD14="",AJ14-AH14,AJ14-AH14-AD14)) | AD14: =IF(AN14-AL14=0,"",AN14-AL14) | AF14: =IF(SUM(AB14:AE14)=0,"",SUM(AB14:AE14)) | AV14: その他
F15: 人 | G15: =IF(IF(I15="",O15-M15,O15-M15-I15)=0,"",IF(I15="",O15-M15,O15-M15-I15)) | I15: =IF(S15-Q15=0,"",S15-Q15) | K15: =IF(SUM(G15:J15)=0,"",SUM(G15:J15)) | AA15: 人 | AB15: =IF(IF(AD15="",AJ15-AH15,AJ15-AH15-AD15)=0,"",IF(AD15="",AJ15-AH15,AJ15-AH15-AD15)) | AD15: =IF(AN15-AL15=0,"",AN15-AL15) | AF15: =IF(SUM(AB15:AE15)=0,"",SUM(AB15:AE15))
F16: 人 | G16: =IF(IF(I16="",O16-M16,O16-M16-I16)=0,"",IF(I16="",O16-M16,O16-M16-I16)) | I16: =IF(S16-Q16=0,"",S16-Q16) | K16: =IF(SUM(G16:J16)=0,"",SUM(G16:J16)) | AA16: 人 | AB16: =IF(IF(AD16="",AJ16-AH16,AJ16-AH16-AD16)=0,"",IF(AD16="",AJ16-AH16,AJ16-AH16-AD16)) | AD16: =IF(AN16-AL16=0,"",AN16-AL16) | AF16: =IF(SUM(AB16:AE16)=0,"",SUM(AB16:AE16))
A17: 引き継ぎ | D17: 朝 | G17: 時 | J17: 分 | K17: 月あたりの常勤職員の勤務すべき時間数 | V17: 引き継ぎ | Y17: 朝 | AB17: 時 | AE17: 分 | AF17: 月あたりの常勤職員の勤務すべき時間数
D18: 夕 | G18: 時 | J18: 分 | K18: 月 時間/1人あたり | Y18: 夕 | AB18: 時 | AE18: 分 | AF18: 月 時間/1人あたり
A20: （ 職種 ： | D20: （プルダウンから選択） | J20: ） | V20: （ 職種 ： | Y20: （プルダウンから選択） | AE20: ）
A21: 勤務形態 | D21: 人数 | G21: 勤務時間（自動計算） | M21: 始業時間 | O21: 終業時間 | Q21: 休憩開始 時間 | S21: 休憩終了 時間 | V21: 勤務形態 | Y21: 人数 | AB21: 勤務時間（自動計算） | AH21: 始業時間 | AJ21: 終業時間 | AL21: 休憩開始 時間 | AN21: 休憩終了 時間
G22: 実働 | I22: 休憩 | K22: 計 | AB22: 実働 | AD22: 休憩 | AF22: 計
A24: 早 番 | F24: 人 | I24: =IF(S24-Q24=0,"",S24-Q24) | K24: =IF(SUM(G24:J24)=0,"",SUM(G24:J24)) | V24: 早 番 | AA24: 人 | AD24: =IF(AN24-AL24=0,"",AN24-AL24) | AF24: =IF(SUM(AB24:AE24)=0,"",SUM(AB24:AE24))
A25: 平 常 | F25: 人 | G25: =IF(IF(I25="",O25-M25,O25-M25-I25)=0,"",IF(I25="",O25-M25,O25-M25-I25)) | I25: =IF(S25-Q25=0,"",S25-Q25) | K25: =IF(SUM(G25:J25)=0,"",SUM(G25:J25)) | V25: 平 常 | AA25: 人 | AB25: =IF(IF(AD25="",AJ25-AH25,AJ25-AH25-AD25)=0,"",IF(AD25="",AJ25-AH25,AJ25-AH25-AD25)) | AD25: =IF(AN25-AL25=0,"",AN25-AL25) | AF25: =IF(SUM(AB25:AE25)=0,"",SUM(AB25:AE25))
A26: 遅 番 | F26: 人 | G26: =IF(IF(I26="",O26-M26,O26-M26-I26)=0,"",IF(I26="",O26-M26,O26-M26-I26)) | I26: =IF(S26-Q26=0,"",S26-Q26) | K26: =IF(SUM(G26:J26)=0,"",SUM(G26:J26)) | V26: 遅 番 | AA26: 人 | AB26: =IF(IF(AD26="",AJ26-AH26,AJ26-AH26-AD26)=0,"",IF(AD26="",AJ26-AH26,AJ26-AH26-AD26)) | AD26: =IF(AN26-AL26=0,"",AN26-AL26) | AF26: =IF(SUM(AB26:AE26)=0,"",SUM(AB26:AE26))
A27: 準夜勤 | F27: 人 | G27: =IF(IF(I27="",O27-M27,O27-M27-I27)=0,"",IF(I27="",O27-M27,O27-M27-I27)) | I27: =IF(S27-Q27=0,"",S27-Q27) | K27: =IF(SUM(G27:J27)=0,"",SUM(G27:J27)) | V27: 準夜勤 | AA27: 人 | AB27: =IF(IF(AD27="",AJ27-AH27,AJ27-AH27-AD27)=0,"",IF(AD27="",AJ27-AH27,AJ27-AH27-AD27)) | AD27: =IF(AN27-AL27=0,"",AN27-AL27) | AF27: =IF(SUM(AB27:AE27)=0,"",SUM(AB27:AE27))
A28: （宿 直） | F28: 人 | G28: =IF(IF(I28="",O28-M28,O28-M28-I28)=0,"",IF(I28="",O28-M28,O28-M28-I28)) | I28: =IF(S28-Q28=0,"",S28-Q28) | K28: =IF(SUM(G28:J28)=0,"",SUM(G28:J28)) | V28: （宿 直） | AA28: 人 | AB28: =IF(IF(AD28="",AJ28-AH28,AJ28-AH28-AD28)=0,"",IF(AD28="",AJ28-AH28,AJ28-AH28-AD28)) | AD28: =IF(AN28-AL28=0,"",AN28-AL28) | AF28: =IF(SUM(AB28:AE28)=0,"",SUM(AB28:AE28))
A29: 深夜勤 | F29: 人 | G29: =IF(IF(I29="",O29-M29,O29-M29-I29)=0,"",IF(I29="",O29-M29,O29-M29-I29)) | I29: =IF(S29-Q29=0,"",S29-Q29) | K29: =IF(SUM(G29:J29)=0,"",SUM(G29:J29)) | V29: 深夜勤 | AA29: 人 | AB29: =IF(IF(AD29="",AJ29-AH29,AJ29-AH29-AD29)=0,"",IF(AD29="",AJ29-AH29,AJ29-AH29-AD29)) | AD29: =IF(AN29-AL29=0,"",AN29-AL29) | AF29: =IF(SUM(AB29:AE29)=0,"",SUM(AB29:AE29))
A30: （宿 直） | F30: 人 | G30: =IF(IF(I30="",O30-M30,O30-M30-I30)=0,"",IF(I30="",O30-M30,O30-M30-I30)) | I30: =IF(S30-Q30=0,"",S30-Q30) | K30: =IF(SUM(G30:J30)=0,"",SUM(G30:J30)) | V30: （宿 直） | AA30: 人 | AB30: =IF(IF(AD30="",AJ30-AH30,AJ30-AH30-AD30)=0,"",IF(AD30="",AJ30-AH30,AJ30-AH30-AD30)) | AD30: =IF(AN30-AL30=0,"",AN30-AL30) | AF30: =IF(SUM(AB30:AE30)=0,"",SUM(AB30:AE30))
F31: 人 | G31: =IF(IF(I31="",O31-M31,O31-M31-I31)=0,"",IF(I31="",O31-M31,O31-M31-I31)) | I31: =IF(S31-Q31=0,"",S31-Q31) | K31: =IF(SUM(G31:J31)=0,"",SUM(G31:J31)) | AA31: 人 | AB31: =IF(IF(AD31="",AJ31-AH31,AJ31-AH31-AD31)=0,"",IF(AD31="",AJ31-AH31,AJ31-AH31-AD31)) | AD31: =IF(AN31-AL31=0,"",AN31-AL31) | AF31: =IF(SUM(AB31:AE31)=0,"",SUM(AB31:AE31))
F32: 人 | G32: =IF(IF(I32="",O32-M32,O32-M32-I32)=0,"",IF(I32="",O32-M32,O32-M32-I32)) | I32: =IF(S32-Q32=0,"",S32-Q32) | K32: =IF(SUM(G32:J32)=0,"",SUM(G32:J32)) | AA32: 人 | AB32: =IF(IF(AD32="",AJ32-AH32,AJ32-AH32-AD32)=0,"",IF(AD32="",AJ32-AH32,AJ32-AH32-AD32)) | AD32: =IF(AN32-AL32=0,"",AN32-AL32) | AF32: =IF(SUM(AB32:AE32)=0,"",SUM(AB32:AE32))
A33: 引き継ぎ | D33: 朝 | G33: 時 | J33: 分 | K33: 月あたりの常勤職員の勤務すべき時間数 | V33: 引き継ぎ | Y33: 朝 | AB33: 時 | AE33: 分 | AF33: 月あたりの常勤職員の勤務すべき時間数
D34: 夕 | G34: 時 | J34: 分 | K34: 月 時間/1人あたり | Y34: 夕 | AB34: 時 | AE34: 分 | AF34: 月 時間/1人あたり
A37: （注） | B37: １．本表は職種別に記入してください。欄が足りない場合は、シートを複製し入力してください。
B38: ２．「準夜勤」及び「深夜勤」欄については、一人一人の勤務時間割を記入してください。ただし複数勤務の場合でも、休憩時間等勤務割が全く同一の場合は一勤務形態のみ記入してください。
B39: ３．各時刻欄は「0：00」の形式で入力してください。
B40: ４．勤務時間については、就業規則で定めている場合はその時間を記入してください。

Sheet 4(2)１ヶ月の勤務割
A1: ４．職員の状況
A2: （2）1ヶ月の勤務割
A3: 指導実施月の前々月の職員配置状況 | I3: （ | L3: 年 | N3: 月の状況 ※月中の採用者・退職者を含みます）
A4: 職種 氏名 | H4: 第1週 | O4: 第2週 | V4: 第3週 | AC4: 第4週 | AJ4: 第5週 | AM4: 1ヶ月の合計 (休憩時間を 含む) | AP4: 所持資格 | AU4: 勤務形態 | AX4: 備考 (兼務する事業名、 採用又は退職の場合は その内容と月日) | BC4: 日数計 | BL4: 時間計
H5: 1 日 | I5: 2 日 | J5: 3 日 | K5: 4 日 | L5: 5 日 | M5: 6 日 | N5: 7 日 | O5: 8 日 | P5: 9 日 | Q5: 10 日 | R5: 11 日 | S5: 12 日 | T5: 13 日 | U5: 14 日 | V5: 15 日 | W5: 16 日 | X5: 17 日 | Y5: 18 日 | Z5: 19 日 | AA5: 20 日 | AB5: 21 日 | AC5: 22 日 | AD5: 23 日 | AE5: 24 日 | AF5: 25 日 | AG5: 26 日 | AH5: 27 日 | AI5: 28 日 | AJ5: 29 日 | AK5: 30 日 | AL5: 31 日 | BC5: =AE41 -> Ａ | BD5: =AE43 -> Ｂ | BE5: =AE45 -> C | BF5: =AM41 -> D | BG5: =AM43 -> E | BH5: =AM45 -> F | BI5: =AU41 -> G | BJ5: =AU43 -> H | BK5: =AU45 -> I | BL5: =BC5 -> Ａ | BM5: =BD5 -> Ｂ | BN5: =BE5 -> C | BO5: =BF5 -> D | BP5: =BG5 -> E | BQ5: =BH5 -> F | BR5: =BI5 -> G | BS5: =BJ5 -> H | BT5: =BK5 -> I | BU5: =AE41 -> Ａ
AU6: 勤務 年月数 | BU6: =AE43 -> Ｂ
BU7: =AE45 -> C
A8: 職種 | AM8: =SUM(BL8:BT9) -> 0 | AU8: ａ ｂ ｃ ｄ | BC8: =COUNTIF($H8:$AL9,BC$5) -> 0 | BD8: =COUNTIF($H8:$AL9,BD$5) -> 0 | BE8: =COUNTIF($H8:$AL9,BE$5) -> 0 | BF8: =COUNTIF($H8:$AL9,BF$5) -> 0 | BG8: =COUNTIF($H8:$AL9,BG$5) -> 0 | BH8: =COUNTIF($H8:$AL9,BH$5) -> 0 | BI8: =COUNTIF($H8:$AL9,BI$5) -> 0 | BJ8: =COUNTIF($H8:$AL9,BJ$5) -> 0 | BK8: =COUNTIF($H8:$AL9,BK$5) -> 0 | BL8: =BC8*BC$41*24 -> 0 | BM8: =BD8*BD$41*24 -> 0 | BN8: =BE8*BE$41*24 -> 0 | BO8: =BF8*BF$41*24 -> 0 | BP8: =BG8*BG$41*24 -> 0 | BQ8: =BH8*BH$41*24 -> 0 | BR8: =BI8*BI$41*24 -> 0 | BS8: =BJ8*BJ$41*24 -> 0 | BT8: =BK8*BK$41*24 -> 0 | BU8: =AM41 -> D
BU9: =AM43 -> E
A10: 氏名 | AW10: 年 | BU10: =AM45 -> F
AW11: 月 | BU11: =AU41 -> G
A12: 職種 | AM12: =SUM(BL12:BT13) -> 0 | AU12: ａ ｂ ｃ ｄ | BC12: =COUNTIF($H12:$AL13,BC$5) -> 0 | BD12: =COUNTIF($H12:$AL13,BD$5) -> 0 | BE12: =COUNTIF($H12:$AL13,BE$5) -> 0 | BF12: =COUNTIF($H12:$AL13,BF$5) -> 0 | BG12: =COUNTIF($H12:$AL13,BG$5) -> 0 | BH12: =COUNTIF($H12:$AL13,BH$5) -> 0 | BI12: =COUNTIF($H12:$AL13,BI$5) -> 0 | BJ12: =COUNTIF($H12:$AL13,BJ$5) -> 0 | BK12: =COUNTIF($H12:$AL13,BK$5) -> 0 | BL12: =BC12*BC$41*24 -> 0 | BM12: =BD12*BD$41*24 -> 0 | BN12: =BE12*BE$41*24 -> 0 | BO12: =BF12*BF$41*24 -> 0 | BP12: =BG12*BG$41*24 -> 0 | BQ12: =BH12*BH$41*24 -> 0 | BR12: =BI12*BI$41*24 -> 0 | BS12: =BJ12*BJ$41*24 -> 0 | BT12: =BK12*BK$41*24 -> 0 | BU12: =AU43 -> H
BU13: =AU45 -> I
A14: 氏名 | AW14: 年
AW15: 月
A16: 職種 | AM16: =SUM(BL16:BT17) -> 0 | AU16: ａ ｂ ｃ ｄ | BC16: =COUNTIF($H16:$AL17,BC$5) -> 0 | BD16: =COUNTIF($H16:$AL17,BD$5) -> 0 | BE16: =COUNTIF($H16:$AL17,BE$5) -> 0 | BF16: =COUNTIF($H16:$AL17,BF$5) -> 0 | BG16: =COUNTIF($H16:$AL17,BG$5) -> 0 | BH16: =COUNTIF($H16:$AL17,BH$5) -> 0 | BI16: =COUNTIF($H16:$AL17,BI$5) -> 0 | BJ16: =COUNTIF($H16:$AL17,BJ$5) -> 0 | BK16: =COUNTIF($H16:$AL17,BK$5) -> 0 | BL16: =BC16*BC$41*24 -> 0 | BM16: =BD16*BD$41*24 -> 0 | BN16: =BE16*BE$41*24 -> 0 | BO16: =BF16*BF$41*24 -> 0 | BP16: =BG16*BG$41*24 -> 0 | BQ16: =BH16*BH$41*24 -> 0 | BR16: =BI16*BI$41*24 -> 0 | BS16: =BJ16*BJ$41*24 -> 0 | BT16: =BK16*BK$41*24 -> 0
A18: 氏名 | AW18: 年
AW19: 月
A20: 職種 | AM20: =SUM(BL20:BT21) -> 0 | AU20: ａ ｂ ｃ ｄ | BC20: =COUNTIF($H20:$AL21,BC$5) -> 0 | BD20: =COUNTIF($H20:$AL21,BD$5) -> 0 | BE20: =COUNTIF($H20:$AL21,BE$5) -> 0 | BF20: =COUNTIF($H20:$AL21,BF$5) -> 0 | BG20: =COUNTIF($H20:$AL21,BG$5) -> 0 | BH20: =COUNTIF($H20:$AL21,BH$5) -> 0 | BI20: =COUNTIF($H20:$AL21,BI$5) -> 0 | BJ20: =COUNTIF($H20:$AL21,BJ$5) -> 0 | BK20: =COUNTIF($H20:$AL21,BK$5) -> 0 | BL20: =BC20*BC$41*24 -> 0 | BM20: =BD20*BD$41*24 -> 0 | BN20: =BE20*BE$41*24 -> 0 | BO20: =BF20*BF$41*24 -> 0 | BP20: =BG20*BG$41*24 -> 0 | BQ20: =BH20*BH$41*24 -> 0 | BR20: =BI20*BI$41*24 -> 0 | BS20: =BJ20*BJ$41*24 -> 0 | BT20: =BK20*BK$41*24 -> 0
A22: 氏名 | AW22: 年
AW23: 月
A24: 職種 | AM24: =SUM(BL24:BT25) -> 0 | AU24: ａ ｂ ｃ ｄ | BC24: =COUNTIF($H24:$AL25,BC$5) -> 0 | BD24: =COUNTIF($H24:$AL25,BD$5) -> 0 | BE24: =COUNTIF($H24:$AL25,BE$5) -> 0 | BF24: =COUNTIF($H24:$AL25,BF$5) -> 0 | BG24: =COUNTIF($H24:$AL25,BG$5) -> 0 | BH24: =COUNTIF($H24:$AL25,BH$5) -> 0 | BI24: =COUNTIF($H24:$AL25,BI$5) -> 0 | BJ24: =COUNTIF($H24:$AL25,BJ$5) -> 0 | BK24: =COUNTIF($H24:$AL25,BK$5) -> 0 | BL24: =BC24*BC$41*24 -> 0 | BM24: =BD24*BD$41*24 -> 0 | BN24: =BE24*BE$41*24 -> 0 | BO24: =BF24*BF$41*24 -> 0 | BP24: =BG24*BG$41*24 -> 0 | BQ24: =BH24*BH$41*24 -> 0 | BR24: =BI24*BI$41*24 -> 0 | BS24: =BJ24*BJ$41*24 -> 0 | BT24: =BK24*BK$41*24 -> 0 | BU24: =AM57 -> 0
BU25: =AM58 -> 0
A26: 氏名 | AW26: 年 | BU26: =AM59 -> 0
AW27: 月 | BU27: =AU57 -> 0
A28: 職種 | AM28: =SUM(BL28:BT29) -> 0 | AU28: ａ ｂ ｃ ｄ | BC28: =COUNTIF($H28:$AL29,BC$5) -> 0 | BD28: =COUNTIF($H28:$AL29,BD$5) -> 0 | BE28: =COUNTIF($H28:$AL29,BE$5) -> 0 | BF28: =COUNTIF($H28:$AL29,BF$5) -> 0 | BG28: =COUNTIF($H28:$AL29,BG$5) -> 0 | BH28: =COUNTIF($H28:$AL29,BH$5) -> 0 | BI28: =COUNTIF($H28:$AL29,BI$5) -> 0 | BJ28: =COUNTIF($H28:$AL29,BJ$5) -> 0 | BK28: =COUNTIF($H28:$AL29,BK$5) -> 0 | BL28: =BC28*BC$41*24 -> 0 | BM28: =BD28*BD$41*24 -> 0 | BN28: =BE28*BE$41*24 -> 0 | BO28: =BF28*BF$41*24 -> 0 | BP28: =BG28*BG$41*24 -> 0 | BQ28: =BH28*BH$41*24 -> 0 | BR28: =BI28*BI$41*24 -> 0 | BS28: =BJ28*BJ$41*24 -> 0 | BT28: =BK28*BK$41*24 -> 0 | BU28: =AU58 -> 0
BU29: =AU59 -> 0
A30: 氏名 | AW30: 年
AW31: 月
A32: 職種 | AM32: =SUM(BL32:BT33) -> 0 | AU32: ａ ｂ ｃ ｄ | BC32: =COUNTIF($H32:$AL33,BC$5) -> 0 | BD32: =COUNTIF($H32:$AL33,BD$5) -> 0 | BE32: =COUNTIF($H32:$AL33,BE$5) -> 0 | BF32: =COUNTIF($H32:$AL33,BF$5) -> 0 | BG32: =COUNTIF($H32:$AL33,BG$5) -> 0 | BH32: =COUNTIF($H32:$AL33,BH$5) -> 0 | BI32: =COUNTIF($H32:$AL33,BI$5) -> 0 | BJ32: =COUNTIF($H32:$AL33,BJ$5) -> 0 | BK32: =COUNTIF($H32:$AL33,BK$5) -> 0 | BL32: =BC32*BC$41*24 -> 0 | BM32: =BD32*BD$41*24 -> 0 | BN32: =BE32*BE$41*24 -> 0 | BO32: =BF32*BF$41*24 -> 0 | BP32: =BG32*BG$41*24 -> 0 | BQ32: =BH32*BH$41*24 -> 0 | BR32: =BI32*BI$41*24 -> 0 | BS32: =BJ32*BJ$41*24 -> 0 | BT32: =BK32*BK$41*24 -> 0
A34: 氏名 | AW34: 年
AW35: 月
A36: 職種 | AM36: =SUM(BL36:BT37) -> 0 | AU36: ａ ｂ ｃ ｄ | BC36: =COUNTIF($H36:$AL37,BC$5) -> 0 | BD36: =COUNTIF($H36:$AL37,BD$5) -> 0 | BE36: =COUNTIF($H36:$AL37,BE$5) -> 0 | BF36: =COUNTIF($H36:$AL37,BF$5) -> 0 | BG36: =COUNTIF($H36:$AL37,BG$5) -> 0 | BH36: =COUNTIF($H36:$AL37,BH$5) -> 0 | BI36: =COUNTIF($H36:$AL37,BI$5) -> 0 | BJ36: =COUNTIF($H36:$AL37,BJ$5) -> 0 | BK36: =COUNTIF($H36:$AL37,BK$5) -> 0 | BL36: =BC36*BC$41*24 -> 0 | BM36: =BD36*BD$41*24 -> 0 | BN36: =BE36*BE$41*24 -> 0 | BO36: =BF36*BF$41*24 -> 0 | BP36: =BG36*BG$41*24 -> 0 | BQ36: =BH36*BH$41*24 -> 0 | BR36: =BI36*BI$41*24 -> 0 | BS36: =BJ36*BJ$41*24 -> 0 | BT36: =BK36*BK$41*24 -> 0
A38: 氏名 | AW38: 年
AW39: 月
A40: 職種・氏名 | H40: 1 | I40: 2 | J40: 3 | K40: 4 | L40: 5 | M40: 6 | N40: 7 | O40: 8 | P40: 9 | Q40: 10 | R40: 11 | S40: 12 | T40: 13 | U40: 14 | V40: 15 | W40: 16 | X40: 17 | Y40: 18 | Z40: 19 | AA40: 20 | AB40: 21 | AC40: 22 | AD40: 23 | AE40: 24 | AF40: 25 | AG40: 26 | AH40: 27 | AI40: 28 | AJ40: 29 | AK40: 30 | AL40: 31 | AM40: 合計 | AP40: 所持資格 | AU40: 形態・年月数 | AX40: 備考 | BC40: 日数計 | BL40: 時間計
A41: （注） | B41: 1． | C41: 記入方法については【職員一覧(記入例)】のシートを参照してください。 | AA41: 勤務時間 帯の符号 | AE41: Ａ | AF41: ( | AI41: ～ | AL41: ) | AM41: D | AN41: ( | AQ41: ～ | AT41: ) | AU41: G | AV41: ( | AY41: ～ | BB41: ) | BC41: =IF($AJ$41>$AG$41,$AJ$41-$AG$41,$AJ$41+1-$AG$41) -> 1 | BD41: =IF($AJ$43>$AG$43,$AJ$43-$AG$43,$AJ$43+1-$AG$43) -> 1 | BE41: =IF($AJ$45>$AG$45,$AJ$45-$AG$45,$AJ$45+1-$AG$45) -> 1 | BF41: =IF($AR$41>$AO$41,$AR$41-$AO$41,$AR$41+1-$AO$41) -> 1 | BG41: =IF($AR$43>$AO$43,$AR$43-$AO$43,$AR$43+1-$AO$43) -> 1 | BH41: =IF($AR$45>$AO$45,$AR$45-$AO$45,$AR$45+1-$AO$45) -> 1 | BI41: =IF($AZ$41>$AW$41,$AZ$41-$AW$41,$AZ$41+1-$AW$41) -> 1 | BJ41: =IF($AZ$43>$AW$43,$AZ$43-$AW$43,$AZ$43+1-$AW$43) -> 1 | BK41: =IF($AZ$45>$AW$45,$AZ$45-$AW$45,$AZ$45+1-$AW$45) -> 1
B42: 2． | D42: 着色部（太枠内）： 記入項目が明確に分かるような既存のシフト表がある場合は記入不要です。
AE43: Ｂ | AF43: ( | AI43: ～ | AL43: ) | AM43: E | AN43: ( | AQ43: ～ | AT43: ) | AU43: H | AV43: ( | AY43: ～ | BB43: )
AE45: C | AF45: ( | AI45: ～ | AL45: ) | AM45: F | AN45: ( | AQ45: ～ | AT45: ) | AU45: I | AV45: ( | AY45: ～ | BB45: )

Sheet 4(3)記入例
A1: ４．職員の状況
A2: （3）1ヶ月の勤務割（記入例）
F3: ・特別養護老人ホームの場合、「奈良県指定介護老人福祉施設の人員、設備及び運営の基準等に関する条例」
F4: に基づく人員配置について【４（４）．1ヶ月の勤務割】のシートを作成してください。
A6: 指導実施月の前々月の職員配置状況( 年 月の状況 ※月中の採用者・退職者を含みます)
A7: 職種 氏名 | H7: 第1週 | O7: 第2週 | V7: 第3週 | AC7: 第4週 | AJ7: 第5週 | AM7: 1ヶ月の合計 (休憩時間を 含む) | AP7: 所持資格 | AU7: 勤務形態 | AX7: 備考 (兼務する事業名、採用又は退職の場合は、その内容と月日) | BC7: 日数計 | BL7: 時間計
H8: 1 日 | I8: 2 日 | J8: 3 日 | K8: 4 日 | L8: 5 日 | M8: 6 日 | N8: 7 日 | O8: 8 日 | P8: 9 日 | Q8: 10 日 | R8: 11 日 | S8: 12 日 | T8: 13 日 | U8: 14 日 | V8: 15 日 | W8: 16 日 | X8: 17 日 | Y8: 18 日 | Z8: 19 日 | AA8: 20 日 | AB8: 21 日 | AC8: 22 日 | AD8: 23 日 | AE8: 24 日 | AF8: 25 日 | AG8: 26 日 | AH8: 27 日 | AI8: 28 日 | AJ8: 29 日 | AK8: 30 日 | AL8: 31 日 | BC8: =AE22 -> Ａ | BD8: =AE23 -> Ｂ | BE8: =AE24 -> Ｃ | BF8: =AM22 -> Ｄ | BG8: =AM23 -> Ｅ | BH8: =AM24 -> Ｆ | BI8: =AU22 -> Ｇ | BJ8: =AU23 -> Ｈ | BK8: =AU24 -> Ｉ | BL8: =BC8 -> Ａ | BM8: =BD8 -> Ｂ | BN8: =BE8 -> Ｃ | BO8: =BF8 -> Ｄ | BP8: =BG8 -> Ｅ | BQ8: =BH8 -> Ｆ | BR8: =BI8 -> Ｇ | BS8: =BJ8 -> Ｈ | BT8: =BK8 -> Ｉ | BU8: =AE22 -> Ａ
AU9: 勤務 年月数 | BU9: =AE23 -> Ｂ
H10: 日 | I10: 月 | J10: 火 | K10: 水 | L10: 木 | M10: 金 | N10: 土 | O10: 日 | P10: 月 | Q10: 火 | R10: 水 | S10: 木 | T10: 金 | U10: 土 | V10: 日 | W10: 月 | X10: 火 | Y10: 水 | Z10: 木 | AA10: 金 | AB10: 土 | AC10: 日 | AD10: 月 | AE10: 火 | AF10: 水 | AG10: 木 | AH10: 金 | AI10: 土 | AJ10: 日 | AK10: 月 | AL10: 火 | BU10: =AE24 -> Ｃ
A11: 職種 | B11: 管理者 | H11: Ａ | I11: Ａ | K11: Ａ | L11: Ａ | M11: Ａ | O11: Ａ | P11: Ａ | R11: Ａ | S11: Ａ | T11: Ａ | V11: Ａ | W11: Ａ | Y11: Ａ | Z11: Ａ | AA11: Ａ | AC11: Ａ | AD11: Ａ | AF11: Ａ | AG11: Ａ | AH11: Ａ | AJ11: Ａ | AK11: Ａ | AM11: =SUM(BL11:BT12) -> 176 | AP11: 介護福祉士 | AU11: a | AX11: 併設○○通所介護事業所と兼務 | BC11: =COUNTIF($H11:$AL12,BC$8) -> 22 | BD11: =COUNTIF($H11:$AL12,BD$8) -> 0 | BE11: =COUNTIF($H11:$AL12,BE$8) -> 0 | BF11: =COUNTIF($H11:$AL12,BF$8) -> 0 | BG11: =COUNTIF($H11:$AL12,BG$8) -> 0 | BH11: =COUNTIF($H11:$AL12,BH$8) -> 0 | BI11: =COUNTIF($H11:$AL12,BI$8) -> 0 | BJ11: =COUNTIF($H11:$AL12,BJ$8) -> 0 | BK11: =COUNTIF($H11:$AL12,BK$8) -> 0 | BL11: =BC11*BC$22*24 -> 176 | BM11: =BD11*BD$22*24 -> 0 | BN11: =BE11*BE$22*24 -> 0 | BO11: =BF11*BF$22*24 -> 0 | BP11: =BG11*BG$22*24 -> 0 | BQ11: =BH11*BH$22*24 -> 0 | BR11: =BI11*BI$22*24 -> 0 | BS11: =BJ11*BJ$22*24 -> 0 | BT11: =BK11*BK$22*24 -> 0 | BU11: =AM22 -> Ｄ
A12: 氏名 | B12: 奈良 太郎 | AU12: 4年0月 | BU12: =AM23 -> Ｅ
A13: 職種 | B13: 生活相談員 | I13: Ａ | J13: Ａ | K13: Ａ | M13: Ａ | N13: Ａ | P13: Ａ | Q13: Ａ | R13: Ａ | T13: Ａ | U13: Ａ | W13: Ａ | X13: Ａ | Y13: Ａ | AA13: Ａ | AB13: Ａ | AD13: Ａ | AE13: Ａ | AF13: Ａ | AH13: Ａ | AI13: Ａ | AK13: Ａ | AL13: Ａ | AM13: =SUM(BL13:BT14) -> 176 | AP13: 介護福祉士 | AU13: a | BC13: =COUNTIF($H13:$AL14,BC$8) -> 22 | BD13: =COUNTIF($H13:$AL14,BD$8) -> 0 | BE13: =COUNTIF($H13:$AL14,BE$8) -> 0 | BF13: =COUNTIF($H13:$AL14,BF$8) -> 0 | BG13: =COUNTIF($H13:$AL14,BG$8) -> 0 | BH13: =COUNTIF($H13:$AL14,BH$8) -> 0 | BI13: =COUNTIF($H13:$AL14,BI$8) -> 0 | BJ13: =COUNTIF($H13:$AL14,BJ$8) -> 0 | BK13: =COUNTIF($H13:$AL14,BK$8) -> 0 | BL13: =BC13*BC$22*24 -> 176 | BM13: =BD13*BD$22*24 -> 0 | BN13: =BE13*BE$22*24 -> 0 | BO13: =BF13*BF$22*24 -> 0 | BP13: =BG13*BG$22*24 -> 0 | BQ13: =BH13*BH$22*24 -> 0 | BR13: =BI13*BI$22*24 -> 0 | BS13: =BJ13*BJ$22*24 -> 0 | BT13: =BK13*BK$22*24 -> 0 | BU13: =AM24 -> Ｆ
A14: 氏名 | B14: 高田 花子 | AU14: 4年0月 | BU14: =AU22 -> Ｇ
A15: 職種 | B15: 介護職員 | H15: Ａ | I15: Ａ | J15: Ｂ | L15: Ａ | M15: Ｃ | O15: Ａ | P15: Ａ | Q15: Ｂ | S15: Ａ | T15: Ｃ | V15: Ａ | W15: Ａ | X15: Ｂ | Z15: Ａ | AA15: Ｃ | AC15: Ａ | AD15: Ａ | AE15: Ｂ | AG15: Ａ | AH15: Ｃ | AJ15: Ａ | AK15: Ａ | AL15: Ｂ | AM15: =SUM(BL15:BT16) -> 184 | AP15: 介護福祉士 | AU15: a | BC15: =COUNTIF($H15:$AL16,BC$8) -> 14 | BD15: =COUNTIF($H15:$AL16,BD$8) -> 5 | BE15: =COUNTIF($H15:$AL16,BE$8) -> 4 | BF15: =COUNTIF($H15:$AL16,BF$8) -> 0 | BG15: =COUNTIF($H15:$AL16,BG$8) -> 0 | BH15: =COUNTIF($H15:$AL16,BH$8) -> 0 | BI15: =COUNTIF($H15:$AL16,BI$8) -> 0 | BJ15: =COUNTIF($H15:$AL16,BJ$8) -> 0 | BK15: =COUNTIF($H15:$AL16,BK$8) -> 0 | BL15: =BC15*BC$22*24 -> 112 | BM15: =BD15*BD$22*24 -> 40 | BN15: =BE15*BE$22*24 -> 32 | BO15: =BF15*BF$22*24 -> 0 | BP15: =BG15*BG$22*24 -> 0 | BQ15: =BH15*BH$22*24 -> 0 | BR15: =BI15*BI$22*24 -> 0 | BS15: =BJ15*BJ$22*24 -> 0 | BT15: =BK15*BK$22*24 -> 0 | BU15: =AU23 -> Ｈ
A16: 氏名 | B16: 高野 雄介 | AU16: 4年0月 | BU16: =AU24 -> Ｉ
A17: 職種 | B17: 介護職員 | H17: Ａ | J17: Ｄ | K17: Ｅ | M17: Ａ | O17: Ｄ | P17: Ｅ | R17: Ａ | T17: Ｄ | U17: Ｅ | W17: Ａ | Y17: Ｄ | Z17: Ｅ | AB17: Ａ | AD17: Ｄ | AE17: Ｅ | AG17: Ａ | AI17: Ｄ | AJ17: Ｅ | AL17: Ａ | AM17: =SUM(BL17:BT18) -> 152 | AP17: ヘルパー２級 | AU17: b | AX17: 併設○○通所介護事業所と兼務（20時間） | BC17: =COUNTIF($H17:$AL18,BC$8) -> 7 | BD17: =COUNTIF($H17:$AL18,BD$8) -> 0 | BE17: =COUNTIF($H17:$AL18,BE$8) -> 0 | BF17: =COUNTIF($H17:$AL18,BF$8) -> 6 | BG17: =COUNTIF($H17:$AL18,BG$8) -> 6 | BH17: =COUNTIF($H17:$AL18,BH$8) -> 0 | BI17: =COUNTIF($H17:$AL18,BI$8) -> 0 | BJ17: =COUNTIF($H17:$AL18,BJ$8) -> 0 | BK17: =COUNTIF($H17:$AL18,BK$8) -> 0 | BL17: =BC17*BC$22*24 -> 56 | BM17: =BD17*BD$22*24 -> 0 | BN17: =BE17*BE$22*24 -> 0 | BO17: =BF17*BF$22*24 -> 48 | BP17: =BG17*BG$22*24 -> 48 | BQ17: =BH17*BH$22*24 -> 0 | BR17: =BI17*BI$22*24 -> 0 | BS17: =BJ17*BJ$22*24 -> 0 | BT17: =BK17*BK$22*24 -> 0
A18: 氏名 | B18: 吉野 次郎 | AU18: 4年0月
A19: 職種 | B19: 看護職員 | I19: Ａ | J19: Ａ | K19: Ａ | M19: Ａ | N19: Ａ | P19: Ａ | Q19: Ａ | R19: Ａ | T19: Ａ | U19: Ａ | W19: Ａ | X19: Ａ | Y19: Ａ | AA19: Ａ | AB19: Ａ | AD19: Ａ | AE19: Ａ | AF19: Ａ | AH19: Ａ | AI19: Ａ | AK19: Ａ | AL19: Ａ | AM19: =SUM(BL19:BT20) -> 176 | AP19: 准看護師 | AU19: c | BC19: =COUNTIF($H19:$AL20,BC$8) -> 22 | BD19: =COUNTIF($H19:$AL20,BD$8) -> 0 | BE19: =COUNTIF($H19:$AL20,BE$8) -> 0 | BF19: =COUNTIF($H19:$AL20,BF$8) -> 0 | BG19: =COUNTIF($H19:$AL20,BG$8) -> 0 | BH19: =COUNTIF($H19:$AL20,BH$8) -> 0 | BI19: =COUNTIF($H19:$AL20,BI$8) -> 0 | BJ19: =COUNTIF($H19:$AL20,BJ$8) -> 0 | BK19: =COUNTIF($H19:$AL20,BK$8) -> 0 | BL19: =BC19*BC$22*24 -> 176 | BM19: =BD19*BD$22*24 -> 0 | BN19: =BE19*BE$22*24 -> 0 | BO19: =BF19*BF$22*24 -> 0 | BP19: =BG19*BG$22*24 -> 0 | BQ19: =BH19*BH$22*24 -> 0 | BR19: =BI19*BI$22*24 -> 0 | BS19: =BJ19*BJ$22*24 -> 0 | BT19: =BK19*BK$22*24 -> 0
A20: 氏名 | B20: 桜井 夕子 | AU20: 4年0月
A21: 職種・氏名 | H21: 1 | I21: 2 | J21: 3 | K21: 4 | L21: 5 | M21: 6 | N21: 7 | O21: 8 | P21: 9 | Q21: 10 | R21: 11 | S21: 12 | T21: 13 | U21: 14 | V21: 15 | W21: 16 | X21: 17 | Y21: 18 | Z21: 19 | AA21: 20 | AB21: 21 | AC21: 22 | AD21: 23 | AE21: 24 | AF21: 25 | AG21: 26 | AH21: 27 | AI21: 28 | AJ21: 29 | AK21: 30 | AL21: 31 | AM21: 合計 | AP21: 所持資格 | AU21: 形態・年月数 | AX21: 備考 | BC21: 日数計 | BL21: 時間計
B22: ■職種氏名欄 ・職種ごとに勤務形態の区分(後述)の順にまとめて記載してください。 ・1人の職員が、同一事業の中で兼務する場合（看護職員と機能訓練指導員等）は、2行に分けて それぞれの職種として記入してください。 | AA22: 勤務時間 帯の符号 | AE22: Ａ | AF22: ( | AG22: 0.375 | AI22: ～ | AJ22: 0.70833333 | AL22: ) | AM22: Ｄ | AN22: ( | AO22: 0.66666667 | AQ22: ～ | AR22: 1 | AT22: ) | AU22: Ｇ | AV22: ( | AY22: ～ | BB22: ) | BC22: =AJ22-AG22 -> 0.33333333 | BD22: =AJ23-AG23 -> 0.33333333 | BE22: =AJ24-AG24 -> 0.33333333 | BF22: =AR22-AO22 -> 0.33333333 | BG22: =AR23-AO23 -> 0.33333333 | BH22: =AR24-AO24 -> 0 | BI22: =AZ22-AW22 -> 0 | BJ22: =AZ23-AW23 -> 0 | BK22: =AZ24-AW24 -> 0
AE23: Ｂ | AF23: ( | AG23: 0.33333333 | AI23: ～ | AJ23: 0.66666667 | AL23: ) | AM23: Ｅ | AN23: ( | AO23: 0 | AQ23: ～ | AR23: 0.33333333 | AT23: ) | AU23: Ｈ | AV23: ( | AY23: ～ | BB23: )
AE24: Ｃ | AF24: ( | AG24: 0.41666667 | AI24: ～ | AJ24: 0.75 | AL24: ) | AM24: Ｆ | AN24: ( | AQ24: ～ | AT24: ) | AU24: Ｉ | AV24: ( | AY24: ～ | BB24: )
B25: ・職種は、管理者・(歯科)医師・薬剤師・歯科衛生士・(管理)栄養士・介護支援専門員・支援相談員・介護職員・看護職員・機能訓練指導員・理学療法士・作業療法士・言語聴覚士等の別を記入してください。 ■勤務時間記入欄 ・日にち欄の下欄には、当該日の曜日を記入してください。 ・1日に勤務した時間を勤務時間帯の符号欄と併せて記入してください。 ・兼務職員については、他の職務に従事する時間を除いてください。 ■所持資格欄 ・所持資格は、ヘルパー2級、1級、介護福祉士、介護支援専門員、看護師、准看護師、管理栄養士、栄養士、医師、薬剤師、歯科衛生士、 理学療法士、作業療法士、言語聴覚士等を記入してください。 ■勤務形態・勤務年月数欄 ・下記勤務形態の区分に従い、○印を記入してください。 【勤務形態の区分】a：常勤で専従 b：常勤で兼務 c：常勤以外で専従 d：常勤以外で兼務 ・同一敷地内の他事業と兼務する場合、兼務先との合計1ヶ月勤務時間が常勤時間を超える場合は常勤扱いとしてください。 また、備考欄に兼務先及び、兼務先での勤務時間を記入してください。 【常勤職員について】就業規則等で規定されている時間を基礎とし、時間外勤務時間は除いてください。休暇や出張の期間については、歴月で1月を超えるものではない限り、常勤職員として勤務したものとして取り扱います。 【非常勤職員について】時間給であれば、給与支給の基礎となった時間を記入してください。曜日・勤務時間が決まっている場合は、備考欄に内容を記入してください。 ・勤務年月数は、同一法人における他介護サービス事業所の経験年月数を含みます。

Sheet 5施設職員の研修実施状況
A1: ５．施設職員の研修実施状況
A2: ="（１）令和"&表紙・鑑!AA3-1&"年度実施状況及び令和"&表紙・鑑!AA3&"年度実施計画" -> （１）令和7年度実施状況及び令和8年度実施計画
A3: 研修の種類 | G3: 実施頻度 | K3: 対象職種 | P3: R8年度実施計画 | U3: R7年度実施日 | Z3: R7研修内容（テーマ等） | AM3: 実施記録
A4: (記載例） | H4: 2 | K4: 施設長、事務長、相談員、介護職員、看護職員、栄養士、調理員、医師 | P4: R8年8月,R9年2月 | U4: R7年6月2日,9日 | Z4: ・食中毒予防のための平時からの備え（効果的な手洗い・うがい等） ・食中毒発生時の対応（嘔吐処理等） | AM4: 有
A5: 感染症及び食中毒の予防及び まん延の防止に関する研修 | G5: 年 | J5: 回
A7: 感染症及び食中毒の予防及び まん延の防止に関する研修 | AM7: （選択）
G8: 年 | J8: 回
A10: 業務継続計画に関する研修 | AM10: （選択）
G11: 年 | J11: 回
A13: 事故発生防止に関する研修 | AM13: （選択）
G14: 年 | J14: 回
A16: 虐待に関する研修 | AM16: （選択）
G17: 年 | J17: 回
A19: 身体拘束に関する研修 | AM19: （選択）
G20: 年 | J20: 回
A23: ="（２）新規採用職員の研修実施状況（実施したものにチェック）" -> （２）新規採用職員の研修実施状況（実施したものにチェック） | R23: （３）認知症介護に係る基礎的な研修を受講させるために必要な措置の実施状況
A24: 研修の種類 | N24: 実施記録 | R24: 資格を有しない直接処遇職員数（4月1日現在） | AC24: 人
B25: 感染症及び食中毒の予防及びまん延の防止に関する研修 | N25: （選択） | R25: 前年度までの認知症介護基礎研修の受講者 | AC25: 人
B26: 業務継続計画に関する研修 | N26: （選択） | R26: 今年度の認知症介護基礎研修の受講予定者 （現時点で予定している数） | AC26: 人
B27: 事故発生防止に関する研修 | N27: （選択）
B28: 虐待に関する研修 | N28: （選択）
B29: 身体拘束に関する研修 | N29: （選択）
A31: （４）施設外研修の受講状況
A32: ￬ 管理者研修等、施設外で受講した研修名を記載してください。

Sheet 6入所者の状況①
A1: ６．入所者の状況
A2: （１）年齢別・性別の状況
A3: 年齢 | C3: 60歳未満 | F3: 60歳以上 | I3: 65歳以上 | L3: 70歳以上 | O3: 75歳以上 | R3: 80歳以上 | U3: 90歳以上 | X3: 計 | AA3: 平均年齢
F4: 65歳未満 | I4: 70歳未満 | L4: 75歳未満 | O4: 80歳未満 | R4: 90歳未満
A5: 男 | E5: 人 | H5: 人 | K5: 人 | N5: 人 | Q5: 人 | T5: 人 | W5: 人 | X5: =IF((SUM(C5:V6)=0),"",SUM(C5:V6)) | Z5: 人 | AC5: 歳
A7: 女 | E7: 人 | H7: 人 | K7: 人 | N7: 人 | Q7: 人 | T7: 人 | W7: 人 | X7: =IF((SUM(C7:V8)=0),"",SUM(C7:V8)) | Z7: 人 | AC7: 歳
A9: 計 | C9: =IF((SUM(C5:D8)=0),"",SUM(C5:D8)) | E9: 人 | F9: =IF((SUM(F5:G8)=0),"",SUM(F5:G8)) | H9: 人 | I9: =IF((SUM(I5:J8)=0),"",SUM(I5:J8)) | K9: 人 | L9: =IF((SUM(L5:M8)=0),"",SUM(L5:M8)) | N9: 人 | O9: =IF((SUM(O5:P8)=0),"",SUM(O5:P8)) | Q9: 人 | R9: =IF((SUM(R5:S8)=0),"",SUM(R5:S8)) | T9: 人 | U9: =IF((SUM(U5:V8)=0),"",SUM(U5:V8)) | W9: 人 | X9: =IF((SUM(C9:V10)=0),"",SUM(C9:V10)) | Z9: 人
A12: （２）要介護度の状況（措置入所者を除く）
A13: 要介護度 | C13: 要 支 援 | F13: 要介護度1 | I13: 要介護度２ | L13: 要介護度３ | O13: 要介護度４ | R13: 要介護度５ | U13: 平均要介護度
A15: 男 | E15: 人 | H15: 人 | K15: 人 | N15: 人 | Q15: 人 | T15: 人 | U15: =IF(O15=0,"",SUM(1*F15,2*I15,3*L15,4*O15,5*R15)/X5)
A17: 女 | E17: 人 | H17: 人 | K17: 人 | N17: 人 | Q17: 人 | T17: 人 | U17: =IF(O17=0,"",SUM(1*F17,2*I17,3*L17,4*O17,5*R17)/X7)
A19: 計 | C19: =IF(SUM(C15:D18)=0,"",SUM(C15:D18)) | E19: 人 | F19: =IF(SUM(F15:G18)=0,"",SUM(F15:G18)) | H19: 人 | I19: =IF(SUM(I15:J18)=0,"",SUM(I15:J18)) | K19: 人 | L19: =IF(SUM(L15:M18)=0,"",SUM(L15:M18)) | N19: 人 | O19: =IF(SUM(O15:P18)=0,"",SUM(O15:P18)) | Q19: 人 | R19: =IF(SUM(R15:S18)=0,"",SUM(R15:S18)) | T19: 人
A22: （３）日常生活状況
A23: 区 分 | E23: 食 事 | K23: 排 泄 | Q23: 着脱衣 | W23: 入 浴 | AC23: 移 動 | AI23: 車椅子使用者数 | AK23: 認知症高齢者数
E25: 自 立 | G25: 一部介助 | I25: 全部介助 | K25: 自 立 | M25: 一部介助 | O25: 全部介助 | Q25: 自 立 | S25: 一部介助 | U25: 全部介助 | W25: 自 立 | Y25: 一部介助 | AA25: 全部介助 | AC25: 自 立 | AE25: 一部介助 | AG25: 全部介助
A29: 実数（人）
A31: 割合（%） | E31: =IF(E29=0,"",E29/$X$9*100) | G31: =IF(G29=0,"",G29/$X$9*100) | I31: =IF(I29=0,"",I29/$X$9*100) | K31: =IF(K29=0,"",K29/$X$9*100) | M31: =IF(M29=0,"",M29/$X$9*100) | O31: =IF(O29=0,"",O29/$X$9*100) | Q31: =IF(Q29=0,"",Q29/$X$9*100) | S31: =IF(S29=0,"",S29/$X$9*100) | U31: =IF(U29=0,"",U29/$X$9*100) | W31: =IF(W29=0,"",W29/$X$9*100) | Y31: =IF(Y29=0,"",Y29/$X$9*100) | AA31: =IF(AA29=0,"",AA29/$X$9*100) | AC31: =IF(AC29=0,"",AC29/$X$9*100) | AE31: =IF(AE29=0,"",AE29/$X$9*100) | AG31: =IF(AG29=0,"",AG29/$X$9*100) | AI31: =IF(AI29=0,"",AI29/$X$9*100) | AK31: =IF(AK29=0,"",AK29/$X$9*100)
A33: （注） | B33: 日常生活状況の区分は次の内容により区分してください。
A34: ① | B34: 食事 | E34: ・ | F34: 自立 | I34: ・・・ | J34: （自立具を使用し、）自分で食事ができる。 | V34: ④ | W34: 入浴 | Z34: ・ | AA34: 自立 | AD34: ・・・ | AE34: （時折手を貸して）自分で入浴でき、大まかに洗える。
E35: ・ | F35: 一部介助 | I35: ・・・ | J35: スプーン等を使用し一部介助すれば食事ができる。 | Z35: ・ | AA35: 一部介助 | AD35: ・・・ | AE35: （洗身・洗髪等はできないが、）一般浴を利用している。
E36: ・ | F36: 全部介助 | I36: ・・・ | J36: 自ら食事を口に運ぶことはできない。 | Z36: ・ | AA36: 全部介助 | AD36: ・・・ | AE36: 特浴・チェア浴を利用している。
A37: ② | B37: 排泄 | E37: ・ | F37: 自立 | I37: ・・・ | J37: 自分で昼夜とも便所又はポータブルトイレを使ってできる。 | V37: ⑤ | W37: 移動 | Z37: ・ | AA37: 自立 | AD37: ・・・ | AE37: 杖等を使用し、かつ時間がかかっても自分で歩ける。
E38: ・ | F38: 一部介助 | I38: ・・・ | J38: 介助があればポータブルトイレでできる。（夜間のみおむつも含む） | Z38: ・ | AA38: 一部介助 | AD38: ・・・ | AE38: 乗降は介助するが、車椅子の操作は自分でできる。
Z39: ・ | AA39: 全部介助 | AD39: ・・・ | AE39: 車椅子を使用しても、乗降・操作は自分で不可能。もしくはストレッチャー使用。
E40: ・ | F40: 全部介助 | I40: ・・・ | J40: 常時おむつを使用している（便意・尿意がない）。
A41: ③ | B41: 着脱衣 | E41: ・ | F41: 自立 | I41: ・・・ | J41: （ボタンやファスナー以外は）自分で着脱できる。 | V41: ⑥ | W41: 車椅子使用 | AD41: ・・・ | AE41: 日常生活で使用（一時利用を除く）。
E42: ・ | F42: 一部介助 | I42: ・・・ | J42: 前開き上衣の袖等は通せる。
E43: ・ | F43: 全部介助 | I43: ・・・ | J43: 全くできない。

Sheet 6入所者の状況②
A1: ６．入所者の状況
A2: （４）直近１日現在の入所者数等 ( | I2: 月 | K2: 日現在） | O2: （5）入所者数等
A3: 施設入所者数（入院を除く、一時的活用を含む） | L3: 人 | R3: 施設 | AA3: 短期入所 | AG3: 合計
R4: 施設入所者延数 (入院を除く) | U4: 平均入所者数 (入院を除く) | X4: 入院延数 | AA4: 利用者延数 | AD4: 平均利用者数 | AG4: 入所者等延数 | AJ4: 平均入所者等数 | AM4: 各月別最高 入所者数
A5: 入院中入所者数 | L5: 人
R6: Ａ | AB6: B | AG6: Ａ＋Ｂ
A7: 短期入所者数 | L7: 人 | O7: 前年度( 年度) | P7: ４月
P8: ５月
A9: 合計 | L9: 人 | P9: ６月
P10: ７月
P11: ８月
A12: 再掲 | B12: 一時的活用の入所者数 | L12: 人 | P12: ９月
P13: １０月
B14: 認知症である症状を呈する入所者数 注１ | L14: 人 | P14: １１月
P15: １２月
B16: 視覚障害者等 注２ | L16: 人 | P16: １月
P17: ２月
A18: ※「入所者数」は、当日入所者を含み、退所者を含みません。 | P18: ３月
A19: 注 | B19: １．精神科医師定期診療体制加算を算定している場合のみ | P19: 合計 | R19: =SUM(R7:W18) -> 0 | U19: =SUM(U7:Z18) -> 0 | X19: =SUM(X7:AC18) -> 0 | AA19: =SUM(AA7:AF18) -> 0 | AD19: =SUM(AD7:AI18) -> 0 | AG19: =SUM(AG7:AL18) -> 0 | AJ19: =SUM(AJ7:AO18) -> 0 | AM19: =SUM(AM7:AO18) -> 0
B20: 記入してください。 | O20: 今年度( 年度) | P20: ４月
A21: 注 | B21: ２．障害者生活支援体制加算を算定している場合のみ記入 | P21: ５月
B22: してください。 | P22: ６月
A23: （参考）一時的活用上限人数：特養定員×５／１００ （小数点以下切捨） | P23: ７月
P24: ８月
P25: ９月
P26: １０月
P27: １１月
P28: １２月
P29: １月
P30: ２月
P31: ３月
P32: 合計 | R32: =SUM(R20:W31) -> 0 | U32: =SUM(U20:Z31) -> 0 | X32: =SUM(X20:AC31) -> 0 | AA32: =SUM(AA20:AF31) -> 0 | AD32: =SUM(AD20:AI31) -> 0 | AG32: =SUM(AG20:AL31) -> 0 | AJ32: =SUM(AJ20:AO31) -> 0 | AM32: =SUM(W33:AB33) -> 0
O33: （注） | P33: １．[入所者延数] 入所等した日を 含み、退所等した 日を含みません。 一時的活用入所者 数を含みます。
P34: ２．[平均入所者数] 入所者延数÷日数 （小数点２位以下切上）
P35: ３．[各月別最高入所者数] 入所者と短期入所 利用者の合計で、 一番多い日の入所 者数を月別に記入 して下さい。 （当日退所者を除く。）
P36: ４．短期入所につい て、満床時に緊急 利用者を静養室で 受け入れた場合、 原則７日以内の利 用であれば利用者 数に含めません。

Sheet 7入所者の処遇状況①
A1: ７．入所者の処遇状況
A2: （１）その他日常生活費
A3: ・ | B3: 運営規程において定められ、その内容が重要事項説明書等に反映されているか。 | Q3: （ | S3: はい | T3: / | V3: いいえ | X3: ）
A4: ・ | B4: あいまいな名目の費用徴収ではなく、費用の内訳が明らかになっているか。 | Q4: （ | S4: はい | T4: / | V4: いいえ | X4: ）
A5: ・ | B5: 利用者の自由な選択に基づくものか。 | Q5: （ | S5: はい | T5: / | V5: いいえ | X5: ）
A6: ・ | B6: 利用者又はその家族等に事前に充分な説明を行い、その同意を得ているか。 | Q6: （ | S6: はい | T6: / | V6: いいえ | X6: ）
A7: ・ | B7: 受領額は、実費相当額の範囲内で行われているか。 | Q7: （ | S7: はい | T7: / | V7: いいえ | X7: ）
A9: 内容 (身の回り品、教養娯楽費等) | H9: 金額 (円) | J9: ／ | K9: 単位 (月・回数等) | M9: 内容 (身の回り品、教養娯楽費等) | U9: 金額 (円) | W9: ／ | X9: 単位 (月・回数等) | Z9: 内容 (身の回り品、教養娯楽費等) | AH9: 金額 (円) | AJ9: ／ | AK9: 単位 (月・回数等)
J11: ／ | W11: ／ | AJ11: ／
J13: ／ | W13: ／ | AJ13: ／
J15: ／ | W15: ／ | AJ15: ／
A17: （注） | B17: 利用料に関する資料を一部添付してください。
A19: （２）個別ケアプラン等の作成
A20: ・ | B20: ケアプランの作成担当者
B21: 職 | F21: 氏名 | K21: 職 | O21: 氏名 | T21: 職 | X21: 氏名 | AC21: 職 | AG21: 氏名
A25: ・ | B25: ケアプラン作成に先立ち、心身の状況、生活歴、病歴等、入所者の現状を把握しているか。 | S25: （ | U25: 有 | V25: / | X25: 無 | Y25: ）
A26: ・ | B26: サービス担当者会議において、ケアプランの内容について他の職員と協議を行っているか。 | S26: （ | U26: 有 | V26: / | X26: 無 | Y26: ）
T27: ⇒有の場合、構成員の職種：
A28: ・ | B28: 利用者またはその家族等に、処遇上必要な事項について説明し、同意を得ているか。 | S28: （ | U28: 有 | V28: / | X28: 無 | Y28: ）
A29: ・ | B29: 定期的なモニタリングを行い、ケアプランの見直しを行っているか。 | S29: （ | U29: 有 | V29: / | X29: 無 | Y29: ）
T30: ⇒有の場合、見直し頻度：
A31: （３）入浴の実施状況
C32: 実施日 | K32: 入浴対象人数 | N32: 一人当たり入浴回数 | R32: 当日入浴できない者の処遇状況
A34: 一般浴 | D34: 月 | F34: 火 | H34: 水 | J34: 木 | M34: 人 | N34: 週 | Q34: 回 | S34: 当日、全身清拭
D35: 金 | F35: 土 | H35: 日 | S35: 可能となったときに全身清拭
A36: 特殊浴 | D36: 月 | F36: 火 | H36: 水 | J36: 木 | M36: 人 | N36: 週 | Q36: 回 | S36: 可能となったときに入浴
D37: 金 | F37: 土 | H37: 日 | S37: 次の入浴日まで入浴等を行わない

Sheet 7入所者の処遇状況②
A1: 7．入所者の処遇状況
A2: （４）褥瘡予防に関する対策（実施しているものにチェック）
A3: 対策 | N3: 対策を講じている場合、その詳細
B4: 褥瘡のハイリスク者に対する褥瘡予防計画の作成、実践及び評価 | N4: 計画の作成、見直し、評価のサイクル（何ヶ月に１回等） | X4: （ | AE4: ）
B5: 専任の褥瘡予防対策担当者の選任 | N5: 褥瘡予防対策担当者 （ | S5: 職： | Y5: 氏名： | AE5: ）
B6: 褥瘡対策チームの設置 | N6: 構成員 | Q6: 施設長 | T6: 生活相談員 | W6: 介護職員 | Z6: 医師 | AB6: 栄養士又は管理栄養士
Q7: 看護職員 | T7: 事務長 | W7: その他（ | AE7: ）
B8: 褥瘡対策のための指針の整備 | N8: 直近見直し日 | Q8: （ | V8: ）
B9: 介護職員等に対する褥瘡対策に関する研修等の実施 | N9: 実施頻度 | P9: （ | Q9: 年 | T9: 回 | U9: ） | W9: 実施記録 | Y9: （ | AA9: 有 | AB9: / | AD9: 無 | AE9: ）
A11: ・ | B11: 褥瘡を有する者の有無 | J11: （ | L11: 有 | M11: ⇒下表も回答 | P11: / | R11: 該当者なし ）
B12: 発症年月日 | E12: 発症場所 | H12: 発症の要因 | L12: 褥瘡の部位・程度 | P12: 施設における処置及び対応 | V12: 発症年月日 | Y12: 発症場所 | AB12: 発症の要因 | AF12: 褥瘡の部位・程度 | AJ12: 施設における処置及び対応
E13: （選択） | Y13: （選択）
E14: （選択） | Y14: （選択）
E15: （選択） | Y15: （選択）
E16: （選択） | Y16: （選択）
E17: （選択） | Y17: （選択）
A19: （５）業務継続計画（BCP)
A20: 指針（計画） | H20: 訓練
C21: 策定有無 | E21: 直近見直し日 | H21: 実施頻度 | L21: R8年度実施計画 | Q21: R7年度実施日 | V21: 実施記録
A22: 感染症 | C22: （選択） | H22: 年 | K22: 回 | V22: （選択）
A24: 災害 | C24: （選択） | H24: 年 | K24: 回 | V24: （選択）
A27: （６）感染症及び食中毒の発生及びまん延の防止のための措置 | N27: （感染対策担当者 | R27: 職： | X27: 氏名： | AD27: ）
A28: 指針（計画） | F28: 感染症及び食中毒の発生及びまん延の防止のための対策を検討する委員会 | AD28: 訓練
A29: 策定有無 | C29: 直近見直し日 | F29: 実施頻度 | I29: 構成員 | T29: R8年度実施計画 | X29: R7年度実施日 | AB29: 実施記録 | AD29: 実施頻度 | AG29: R8年度実施計画 | AK29: R7年度実施日 | AO29: 実施記録
A30: （選択） | J30: 施設長 | M30: 事務長 | P30: 医師 | AB30: （選択） | AO30: （選択）
F31: 年 | H31: 回 | J31: 看護職員 | M31: 介護職員 | P31: 栄養士又は管理栄養士 | AD31: 年 | AF31: 回
J32: 生活相談員 | M32: その他（ | S32: ）
A34: （７）循環式浴槽について（レジオネラ症対策） | W34: （８）加湿装置または家庭用加湿器について（レジオネラ症対策）
A35: ・ | B35: 循環式浴槽を使用しているか。 | J35: 使用している ⇒以下の項目にも回答 | W35: ・ | X35: 加湿装置の点検及び清掃頻度
J36: 使用していない | Z36: 使用しており、定期的な点検・清掃を実施している。
Z37: 使用しているが、定期的な点検・清掃は実施していない。
A38: ・ | B38: 浴槽水の換水頻度 | I38: （ | J38: 週 | M38: 回 | N38: ） | Z38: 使用していない
A39: ・ | B39: 水質検査の実施 | I39: （ | K39: 有 | L39: （実施頻度： | Q39: 回） | R39: / | T39: 無 | U39: ） | X39: （注） | Y39: 加湿装置…主にビル用の空気調和設備に組み込まれているもの
A40: ・ | B40: 循環配管等の点検 | I40: （ | K40: 有 | L40: （実施頻度： | Q40: 回） | R40: / | T40: 無 | U40: ）
A41: ・ | B41: 貯湯槽の清掃及び消毒 | I41: （ | K41: 有 | L41: （実施頻度： | Q41: 回） | R41: / | T41: 無 | U41: ） | W41: ・ | X41: 家庭用加湿器の換水及び清掃頻度
A42: ・ | B42: 集毛器（ヘアキャッチャー）の清掃 | I42: （ | K42: 有 | L42: （実施頻度： | Q42: 回） | R42: / | T42: 無 | U42: ） | Z42: 使用しており、毎日水の交換をするとともにタンク内を清掃している。
A43: ・ | B43: ろ過器、循環配水管逆洗浄等 | I43: （ | K43: 有 | L43: （実施頻度： | Q43: 回） | R43: / | T43: 無 | U43: ） | Z43: 使用しているが、水の交換やタンク内の清掃を定期的に行っていない。
A44: ・ | B44: 残留塩素濃度の測定 | I44: （ | K44: 有 | L44: （実施頻度： | Q44: 回） | R44: / | T44: 無 | U44: ） | Z44: 使用していない

Sheet 7入所者の処遇状況③
A1: 7．入所者の処遇状況
A2: （９）事故発生防止のための措置 | I2: （事故発生防止にかかる担当者 | O2: 職： | U2: 氏名： | AA2: ）
A3: 指針（計画） | F3: 事故発生防止のための委員会 | AD3: 事故発生時の対応
A4: 策定有無 | C4: 直近見直し日 | F4: 実施頻度 | I4: 構成員 | T4: R8年度実施計画 | X4: R7年度実施日 | AB4: 実施記録 | AD4: 事故件数総数 | AJ4: 件 | AK4: 事故報告書の保管
A5: （選択） | J5: 施設長 | M5: 事務長 | P5: 医師 | AB5: （選択） | AL5: 有
F6: 年 | H6: 回 | J6: 看護職員 | M6: 介護職員 | P6: 栄養士又は管理栄養士 | AE6: うち市町村・県への報告件数 | AJ6: 件 | AK6: （保管年数： | AO6: 年）
J7: 生活相談員 | M7: その他（ | S7: ） | AL7: 無
A9: （10）身体拘束等の適正化のための措置 | J9: （身体拘束等適正化対策担当者 | P9: 職： | V9: 氏名： | AB9: ）
A10: 指針（計画） | F10: 身体拘束等の適正化のための対策を検討する委員会
A11: 策定有無 | C11: 直近見直し日 | F11: 実施頻度 | I11: 構成員 | T11: R8年度実施計画 | X11: R7年度実施日 | AB11: 実施記録
A12: （選択） | J12: 施設長 | M12: 事務長 | P12: 医師 | AB12: （選択）
F13: 年 | H13: 回 | J13: 看護職員 | M13: 介護職員 | P13: 栄養士又は管理栄養士
J14: 生活相談員 | M14: その他（ | S14: ）
A16: ・ | B16: 前回運営指導以降身体拘束実施者 | H16: （該当するものにチェックし、内訳を記載） | Q16: ・ | R16: 身体拘束経過管理の記録 記載事項（該当するものにチェック）
C17: ベッドの四本柵 | H17: （ | K17: 名） | S17: 拘束等の態様
C18: 車椅子ベルト | H18: （ | K18: 名） | S18: 拘束等を行った時間
C19: つなぎ服 | H19: （ | K19: 名） | S19: 入所者の心身の状況
C20: ミトン手袋 | H20: （ | K20: 名） | S20: 緊急やむを得なかった理由（３要件の検討）
C21: ひも等による抑制 | H21: （ | K21: 名） | S21: 拘束解除に向けた検討状況
C22: その他の抑制 | H22: （ | K22: 名） | S22: 経過管理の記録を整備していない。
G23: 計 | H23: （ | I23: =SUM(I17:J22) -> 0 | K23: 名）
A25: （11）虐待の防止のための措置 | H25: （虐待防止にかかる担当者 | M25: 職： | S25: 氏名： | Y25: ）
A26: 指針（計画） | F26: 虐待の防止のための対策を検討する委員会
A27: 策定有無 | C27: 直近見直し日 | F27: 実施頻度 | I27: 構成員 | T27: R8年度実施計画 | X27: R7年度実施日 | AB27: 実施記録
A28: （選択） | J28: 施設長 | M28: 事務長 | P28: 医師 | AB28: （選択）
F29: 年 | H29: 回 | J29: 看護職員 | M29: 介護職員 | P29: 栄養士又は管理栄養士
J30: 生活相談員 | M30: その他（ | S30: ）
A32: （12）入所者の安全並びに介護サービスの質の確保及び職員の負担軽減に資する取組
A33: 入所者の安全並びに介護サービスの質の確保及び職員の負担軽減に資する方策を検討するための委員会
A34: 実施頻度 | D34: 構成員 | O34: R8年度実施計画 | S34: R7年度実施日 | W34: 実施記録
E35: 施設長 | H35: 事務長 | K35: 医師 | W35: （選択）
A36: 年 | C36: 回 | E36: 看護職員 | H36: 介護職員 | K36: 栄養士又は管理栄養士
E37: 生活相談員 | H37: その他（ | N37: ）

Sheet 7入所者の処遇状況④
A1: 7．入所者の処遇状況
A2: （13）各種ハラスメントにより就業環境が害されることを防止するための措置（実施しているものにチェック） | V2: （14）秘密保持のための措置（実施しているものにチェック）
B3: 事業者の各種ハラスメントに関する方針等の明確化及びその周知・啓発 | W3: 個人情報取扱に関する規則の策定
B4: 相談窓口担当者の設置等、相談等への対応体制の整備 | M4: （担当者： | T4: ） | W4: 個人情報の取扱について、あらかじめ入所者から文書による同意
B5: 職場におけるハラスメントへの事後の迅速かつ適切な対応 | W5: 従業員または従業員であった者による業務上知り得た入所者等の情報漏えい防止に必要な措置（雇用時の誓約書等）
B6: 併せて講ずべき措置（プライバシー保護、不利益取扱いの禁止等）
A8: ="（15）リハビリテーションの実施状況(令和"&表紙・鑑!AA3-1&"年度）" -> （15）リハビリテーションの実施状況(令和7年度） | O8: （16）クラブ活動の状況（直近1ヶ月） | AC8: （17）苦情解決への取り組み
A9: ・ | B9: 個別リハビリ計画の作成担当者 | O9: クラブ名 | R9: 内容 | Y9: 実施頻度 | AC9: ・ | AD9: 苦情受付体制の構築 | AH9: （ | AJ9: 有 | AK9: / | AM9: 無 | AN9: ）
B10: 職 | F10: 氏名 | Y10: 週 | AA10: 回 | AD10: 苦情受付 担当者 | AG10: 職 | AM10: 氏名
Y12: 週 | AA12: 回 | AD12: 苦情解決 責任者 | AG12: 職 | AM12: 氏名
Y14: 週 | AA14: 回 | AD14: 第三者委員 | AG14: 職（資格） | AM14: 氏名
A15: ・ | B15: 各種リハビリテーションの実施内容
B16: 種類 | D16: 内容 | K16: 実施頻度 | Y16: 週 | AA16: 回 | AG16: 職（資格） | AM16: 氏名
B17: 作業療法 | K17: 週
M18: 回 | Y18: 週 | AA18: 回 | AD18: （注） | AE18: 職・資格等の例示
AE19: 評議員(理事は除く)、監事、民生委員、児童委員、大学教授、弁護士
B21: 理学療法 | K21: 週 | O21: ="（15）地域等との交流状況（令和"&表紙・鑑!AA3-1&"年度）" -> （15）地域等との交流状況（令和7年度） | AC21: ・ | AD21: 苦情受付体制の周知
M22: 回 | O22: 内容及び参加者の属性（家族、地域住民、ボランティアなど） | AE22: 施設掲示板に掲示
AE23: パンフレット配布
AE24: 重要事項説明書、契約書に記載
B25: 言語療法 | K25: 週 | AE25: その他（ | AR25: ）
M26: 回 | AE26: 周知していない
AC28: ・ | AD28: 苦情の公表方法（苦情が無い場合、その旨も含む）
B29: その他 | K29: 週 | AE29: 施設掲示板に掲示
M30: 回 | AE30: ホームページの活用
AE31: 広報誌の活用
AE32: 事業報告書への記載
B33: （注） | C33: 本表には、OT・PT等が行う専門療法のほか、 | AE33: その他（ | AR33: ）
C34: ラジオ体操など機能減退防止のために行うものも含めてください。 | AE34: 外部に公表していない
B35: （例） | C35: ・作業療法 | F35: 木工・あみもの・裁縫・タイプライティング・機械・手工芸・粘土・陶芸等、造型意欲をかきたて、
F36: 運動機能の回復と心理的更生を図るもの
C37: ・理学療法 | F37: マッサージ・温浴・電気的療法・物理的手段による機能回復訓練等
C38: ・言語療法 | F38: 言語機能回復訓練
C39: ・その他 | F39: レクリエーション療法・心理療法・ラジオ体操・歩行訓練

Sheet 7入所者の処遇状況⑤
A1: 7．入所者の処遇状況
A2: （18）災害事故防止対策
A3: ① | B3: 各種計画等の状況 | T3: ⑤ | U3: ="各種防災訓練の実施状況（令和"&表紙・鑑!AA3-1&"年度）" -> 各種防災訓練の実施状況（令和7年度）
A4: 災害危険区域の 指定等 | F4: 非該当 | I4: 土砂災害警戒区域 | N4: 浸水想定区域 | T4: 区 分 | X4: 実施数総計 | AD4: 実施月 | AJ4: 消防署への事前通報 | AM4: 実施記録
F5: その他（ | P5: ） | AA5: うち夜間想定
A6: 防火管理者 | E6: 職 | J6: 消防への届出日（直近） | T6: 消火訓練 | Z6: 回 | AC6: 回 | AL6: 回 | AM6: （選択）
E7: 氏名
A8: 消防計画 | F8: 作成済 | J8: 消防への届出日（直近） | T8: 避難訓練 （火事、地震想定） | Z8: 回 | AC8: 回 | AL8: 回 | AM8: （選択）
F9: 未作成
A10: 非常災害対策計画 | F10: 作成済 | T10: 避難訓練 （風水害想定） | Z10: 回 | AC10: 回 | AL10: 回 | AM10: （選択）
F11: 未作成
A12: 避難確保計画 | F12: 作成済 | J12: 市町村への届出日（直近） | T12: 救助訓練 | Z12: 回 | AC12: 回 | AL12: 回 | AM12: （選択）
F13: 未作成
T14: 通報訓練 | Z14: 回 | AC14: 回 | AL14: 回 | AM14: （選択）
A15: ② | B15: 火災時における避難、消火等の地域防災組織・近隣の協力者との連携状況
T17: ⑥ | U17: 夜間の職員配置状況
T18: 勤務形態等 | X18: 配置人員等 | AG18: 業務内容
T19: 夜間勤務 （直接処遇業務） | X19: 常勤職員 | AE19: 人 | AG19: ①勤務時間
X20: その他職員 | AE20: 人 | AI20: ： | AK20: ～ | AM20: ：
A21: ③ | B21: 消防署の立入検査（直近実施分） | X21: 合 計 | AB21: =IF(SUM(AB19:AC20)=0,"",SUM(AB19:AC20)) | AE21: 人 | AI21: ： | AK21: ～ | AM21: ：
A22: 検査実施日 | E22: （選択） | I22: 年 | L22: 月 | O22: 日 | T22: 宿 直 (施設管理業務） | X22: 常勤職員 | AE22: 人
X23: 宿直専門員 | AE23: 人 | AG23: ②巡回時間
A24: 指摘事項 | X24: その他職員 | AE24: 人 | AG24: 〈１〉 | AI24: ： | AL24: 〈４〉 | AN24: ：
X25: 合 計 | AB25: =IF(SUM(AB22,AB23,AB24)=0,"",SUM(AB22,AB23,AB24)) | AE25: 人 | AG25: 〈２〉 | AI25: ： | AL25: 〈５〉 | AN25: ：
X26: 宿直手当 | AB26: 日額 | AF26: 円 | AG26: 〈３〉 | AI26: ： | AL26: 〈６〉 | AN26: ：
A27: 改善状況 | AB27: 月額 | AF27: 円
X28: 宿直業務委託の場合のみ記入してください。 | AG28: ③引継ぎ時間
X29: 契約による配置人員 | AE29: 人 | AG29: 開始時 | AJ29: ：
X30: 契約書の有無 | AC30: 有 | AF30: 無 | AG30: 終了時 | AJ30: ：
A31: ④ | B31: ="防災設備の保守点検状況（令和"&表紙・鑑!AA3-1&"年度）" -> 防災設備の保守点検状況（令和7年度）
A32: 区 分 | E32: 実施回数 | H32: 実施月 | L32: 消防への届出 | AG32: ④業務日誌
AI33: 有 | AL33: 無
A34: 業者委託による点検 | E34: 年 | G34: 回 | M34: 済 | N34: （ | P34: 月実施分）
M35: 未 | AG35: ⑤防災訓練への参加
A36: 自主点検 | E36: 年 | G36: 回 | AI36: 有 | AL36: 無

Sheet 8入所者の医療管理の状況
A1: 8．入所者の健康管理等の状況
A2: （1）栄養管理 | Q2: （２）口腔衛生の管理
A3: 管理栄養士又は栄養士の配置状況 | H3: （プルダウンから選択） | Q3: 歯科医師又は歯科衛生士からの介護職員への技術的助言及び指導を受けているか。 | AH3: 有 | AJ3: ／ | AL3: 無
A4: 栄養ケア計画の作成 | I4: 有 | K4: ／ | M4: 無 | Q4: ※有の場合は助言及び指導の頻度 | AL4: 回
A5: 入所者の栄養状態の記録 | I5: 有 | K5: ／ | M5: 無 | Q5: 入所者の口腔衛生の管理体制に係る計画を作成しているか。 | AH5: 有 | AJ5: ／ | AL5: 無
A6: ※有の場合は記録の頻度 | M6: 回 | Q6: 入所者に対する口腔の健康状態をチェックしているか。 | AH6: 有 | AJ6: ／ | AL6: 無
Q7: ※有の場合はチェック頻度 | AL7: 回
A9: ・ | B9: 健康状態、入院/通院状況、投薬状況等の把握のため、個人別の健康管理簿等を整備しているか。 | T9: （ | V9: はい | W9: / | Y9: いいえ | AA9: ）
A10: ・ | B10: 胸部X線検査を入所時及び年1回実施しているか。 | L10: （ | N10: はい | O10: / | Q10: いいえ | S10: ）
A12: ="（３）入所者の入院の状況(令和"&表紙・鑑!AA3-1&"年度）" -> （３）入所者の入院の状況(令和7年度）
A13: 入院者氏名 | E13: 入院期間 | H13: 入院先 （医療機関名） | L13: 入院理由 | O13: 入院者氏名 | S13: 入院期間 | V13: 入院先 （医療機関名） | Z13: 入院理由 | AC13: 入院者氏名 | AG13: 入院期間 | AJ13: 入院先 （医療機関名） | AN13: 入院理由
E15: 自 | S15: 自 | AG15: 自
E16: 至 | S16: 至 | AG16: 至
E17: =IF(ISERROR(F16-F15+1),"",IF(AND(F15=0,F16=0),"日間",F16-F15+1&"日間")) -> 日間 | S17: =IF(ISERROR(T16-T15+1),"",IF(AND(T15=0,T16=0),"日間",T16-T15+1&"日間")) -> 日間 | AG17: =IF(ISERROR(AH16-AH15+1),"",IF(AND(AH15=0,AH16=0),"日間",AH16-AH15+1&"日間")) -> 日間
E18: 自 | S18: 自 | AG18: 自
E19: 至 | S19: 至 | AG19: 至
E20: =IF(ISERROR(F19-F18+1),"",IF(AND(F18=0,F19=0),"日間",F19-F18+1&"日間")) -> 日間 | S20: =IF(ISERROR(T19-T18+1),"",IF(AND(T18=0,T19=0),"日間",T19-T18+1&"日間")) -> 日間 | AG20: =IF(ISERROR(AH19-AH18+1),"",IF(AND(AH18=0,AH19=0),"日間",AH19-AH18+1&"日間")) -> 日間
E21: 自 | S21: 自 | AG21: 自
E22: 至 | S22: 至 | AG22: 至
E23: =IF(ISERROR(F22-F21+1),"",IF(AND(F21=0,F22=0),"日間",F22-F21+1&"日間")) -> 日間 | S23: =IF(ISERROR(T22-T21+1),"",IF(AND(T21=0,T22=0),"日間",T22-T21+1&"日間")) -> 日間 | AG23: =IF(ISERROR(AH22-AH21+1),"",IF(AND(AH21=0,AH22=0),"日間",AH22-AH21+1&"日間")) -> 日間
E24: 自 | S24: 自 | AG24: 自
E25: 至 | S25: 至 | AG25: 至
E26: =IF(ISERROR(F25-F24+1),"",IF(AND(F24=0,F25=0),"日間",F25-F24+1&"日間")) -> 日間 | S26: =IF(ISERROR(T25-T24+1),"",IF(AND(T24=0,T25=0),"日間",T25-T24+1&"日間")) -> 日間 | AG26: =IF(ISERROR(AH25-AH24+1),"",IF(AND(AH24=0,AH25=0),"日間",AH25-AH24+1&"日間")) -> 日間
E27: 自 | S27: 自 | AG27: 自
E28: 至 | S28: 至 | AG28: 至
E29: =IF(ISERROR(F28-F27+1),"",IF(AND(F27=0,F28=0),"日間",F28-F27+1&"日間")) -> 日間 | S29: =IF(ISERROR(T28-T27+1),"",IF(AND(T27=0,T28=0),"日間",T28-T27+1&"日間")) -> 日間 | AG29: =IF(ISERROR(AH28-AH27+1),"",IF(AND(AH27=0,AH28=0),"日間",AH28-AH27+1&"日間")) -> 日間
A30: （注） | B30: 入院回数が複数に渡る場合は，入所者ごとに記入してください。
A32: ="（４）入所者の健康診断の実施状況（令和"&表紙・鑑!AA3-1&"年度）" -> （４）入所者の健康診断の実施状況（令和7年度） | U32: （５）協力医療機関の状況（歯科を含む）
A33: 実施年月日 | D33: 検査実施機関 | H33: 実施人員 | J33: ／ | K33: 対象人員 | M33: 検査内容 | U33: ・ | V33: 県への協力医療機関の名称等の届出 | AC33: （ | AE33: 有 | AF33: ⇒直近の届出日： | AN33: / | AP33: 未 | AQ33: ）
U34: 医療機関名
I35: 人 | J35: ／ | L35: 人
U36: 診療科目
I37: 人 | J37: ／ | L37: 人
U38: 要件に該当するもの （注釈参照） | Y38: 第1号 | AC38: 第1号 | AG38: 第1号 | AK38: 第1号 | AO38: 第1号
I39: 人 | J39: ／ | L39: 人 | Y39: 第2号 | AC39: 第2号 | AG39: 第2号 | AK39: 第2号 | AO39: 第2号
Y40: 第3号 | AC40: 第3号 | AG40: 第3号 | AK40: 第3号 | AO40: 第3号
I41: 人 | J41: ／ | L41: 人 | U41: 病床数 | AA41: 床 | AE41: 床 | AI41: 床 | AM41: 床 | AQ41: 床
U42: 施設からの距離 | AA42: km | AE42: km | AI42: km | AM42: km | AQ42: km
X43: 車で約 | AA43: 分 | AB43: 車で約 | AE43: 分 | AF43: 車で約 | AI43: 分 | AJ43: 車で約 | AM43: 分 | AN43: 車で約 | AQ43: 分
A44: （６）医務室の状況 | U44: 契約の有無 | X44: （選択） | AB44: （選択） | AF44: （選択） | AJ44: （選択） | AN44: （選択）
...
